BEGIN:VCALENDAR
VERSION:2.0
PRODID:-//Senior Center of Jackson Hole - ECPv6.11.2.1//NONSGML v1.0//EN
CALSCALE:GREGORIAN
METHOD:PUBLISH
X-ORIGINAL-URL:https://seniorcenterjh.org
X-WR-CALDESC:Events for Senior Center of Jackson Hole
REFRESH-INTERVAL;VALUE=DURATION:PT1H
X-Robots-Tag:noindex
X-PUBLISHED-TTL:PT1H
BEGIN:VTIMEZONE
TZID:America/Denver
BEGIN:DAYLIGHT
TZOFFSETFROM:-0700
TZOFFSETTO:-0600
TZNAME:MDT
DTSTART:20260308T090000
END:DAYLIGHT
BEGIN:STANDARD
TZOFFSETFROM:-0600
TZOFFSETTO:-0700
TZNAME:MST
DTSTART:20261101T080000
END:STANDARD
END:VTIMEZONE
BEGIN:VEVENT
DTSTART;TZID=America/Denver:20260421T114500
DTEND;TZID=America/Denver:20260421T122000
DTSTAMP:20260421T051707
CREATED:20260306T193849Z
LAST-MODIFIED:20260403T043651Z
UID:10022863-1776771900-1776774000@seniorcenterjh.org
SUMMARY:Senior Step with Alice
DESCRIPTION:Join Alice for a class all about cardio! Enjoy this low-impact aerobic exercise using a step while improving your cardiovascular fitness that helps maintain your weight or assist in losing weight– a short\, 35-minute class including warm-up and cool-down.  \nClick here for Zoom!
URL:https://seniorcenterjh.org/event/senior-step-with-alice/2026-04-21/
CATEGORIES:Fitness
END:VEVENT
BEGIN:VEVENT
DTSTART;TZID=America/Denver:20260428T114500
DTEND;TZID=America/Denver:20260428T122000
DTSTAMP:20260421T051707
CREATED:20260306T193849Z
LAST-MODIFIED:20260403T043651Z
UID:10022864-1777376700-1777378800@seniorcenterjh.org
SUMMARY:Senior Step with Alice
DESCRIPTION:Join Alice for a class all about cardio! Enjoy this low-impact aerobic exercise using a step while improving your cardiovascular fitness that helps maintain your weight or assist in losing weight– a short\, 35-minute class including warm-up and cool-down.  \nClick here for Zoom!
URL:https://seniorcenterjh.org/event/senior-step-with-alice/2026-04-28/
CATEGORIES:Fitness
END:VEVENT
END:VCALENDAR