BEGIN:VCALENDAR
VERSION:2.0
PRODID:-//Senior Center of Jackson Hole - ECPv6.11.2.1//NONSGML v1.0//EN
CALSCALE:GREGORIAN
METHOD:PUBLISH
X-ORIGINAL-URL:https://seniorcenterjh.org
X-WR-CALDESC:Events for Senior Center of Jackson Hole
REFRESH-INTERVAL;VALUE=DURATION:PT1H
X-Robots-Tag:noindex
X-PUBLISHED-TTL:PT1H
BEGIN:VTIMEZONE
TZID:America/Denver
BEGIN:DAYLIGHT
TZOFFSETFROM:-0700
TZOFFSETTO:-0600
TZNAME:MDT
DTSTART:20240310T090000
END:DAYLIGHT
BEGIN:STANDARD
TZOFFSETFROM:-0600
TZOFFSETTO:-0700
TZNAME:MST
DTSTART:20241103T080000
END:STANDARD
END:VTIMEZONE
BEGIN:VEVENT
DTSTART;TZID=America/Denver:20240806T103000
DTEND;TZID=America/Denver:20240806T113000
DTSTAMP:20260421T203521
CREATED:20240703T161958Z
LAST-MODIFIED:20260403T043542Z
UID:10017812-1722940200-1722943800@seniorcenterjh.org
SUMMARY:Yoga
DESCRIPTION:Join Trish for this intermediate yoga class.  Classes change weekly and never repeat! Yoga is excellent for working on flexibility\, strength\, and balance. This class requires some experience. Make sure to bring your yoga mat! \nFor Zoom\, click here \nPassword: 1XmKsY
URL:https://seniorcenterjh.org/event/yoga/2024-08-06/
CATEGORIES:Fitness
END:VEVENT
BEGIN:VEVENT
DTSTART;TZID=America/Denver:20240813T103000
DTEND;TZID=America/Denver:20240813T113000
DTSTAMP:20260421T203521
CREATED:20240703T161958Z
LAST-MODIFIED:20260403T043542Z
UID:10017813-1723545000-1723548600@seniorcenterjh.org
SUMMARY:Yoga
DESCRIPTION:Join Trish for this intermediate yoga class.  Classes change weekly and never repeat! Yoga is excellent for working on flexibility\, strength\, and balance. This class requires some experience. Make sure to bring your yoga mat! \nFor Zoom\, click here \nPassword: 1XmKsY
URL:https://seniorcenterjh.org/event/yoga/2024-08-13/
CATEGORIES:Fitness
END:VEVENT
BEGIN:VEVENT
DTSTART;TZID=America/Denver:20240820T103000
DTEND;TZID=America/Denver:20240820T113000
DTSTAMP:20260421T203521
CREATED:20240703T161958Z
LAST-MODIFIED:20260403T043542Z
UID:10017814-1724149800-1724153400@seniorcenterjh.org
SUMMARY:Yoga
DESCRIPTION:Join Trish for this intermediate yoga class.  Classes change weekly and never repeat! Yoga is excellent for working on flexibility\, strength\, and balance. This class requires some experience. Make sure to bring your yoga mat! \nFor Zoom\, click here \nPassword: 1XmKsY
URL:https://seniorcenterjh.org/event/yoga/2024-08-20/
CATEGORIES:Fitness
END:VEVENT
BEGIN:VEVENT
DTSTART;TZID=America/Denver:20240827T103000
DTEND;TZID=America/Denver:20240827T113000
DTSTAMP:20260421T203521
CREATED:20240703T161958Z
LAST-MODIFIED:20260403T043542Z
UID:10017815-1724754600-1724758200@seniorcenterjh.org
SUMMARY:Yoga
DESCRIPTION:Join Trish for this intermediate yoga class.  Classes change weekly and never repeat! Yoga is excellent for working on flexibility\, strength\, and balance. This class requires some experience. Make sure to bring your yoga mat! \nFor Zoom\, click here \nPassword: 1XmKsY
URL:https://seniorcenterjh.org/event/yoga/2024-08-27/
CATEGORIES:Fitness
END:VEVENT
BEGIN:VEVENT
DTSTART;TZID=America/Denver:20240828T103000
DTEND;TZID=America/Denver:20240828T113000
DTSTAMP:20260421T203521
CREATED:20240828T163836Z
LAST-MODIFIED:20260401T135556Z
UID:10018258-1724841000-1724844600@seniorcenterjh.org
SUMMARY:Tai Chi with Ken
DESCRIPTION:Greg is out\, but we will still be holding our Tai Chi class with instructor Ken! This gentle\, low-impact class is a great way to improve your balance\, agility\, and flexibility while releasing stress. Tai chi is a type of martial art and is a series of slow\, flowing movements that are great for treating or preventing injuries. This class is beginner-friendly\, so don’t worry if you have never done tai chi before! \nNo equipment is needed. \nJoin the online class by clicking here.
URL:https://seniorcenterjh.org/event/tai-chi-in-person-2-2-2-2/2024-08-28/
CATEGORIES:Fitness,Health & Wellness
END:VEVENT
END:VCALENDAR