BEGIN:VCALENDAR
VERSION:2.0
PRODID:-//Senior Center of Jackson Hole - ECPv6.11.2.1//NONSGML v1.0//EN
CALSCALE:GREGORIAN
METHOD:PUBLISH
X-WR-CALNAME:Senior Center of Jackson Hole
X-ORIGINAL-URL:https://seniorcenterjh.org
X-WR-CALDESC:Events for Senior Center of Jackson Hole
REFRESH-INTERVAL;VALUE=DURATION:PT1H
X-Robots-Tag:noindex
X-PUBLISHED-TTL:PT1H
BEGIN:VTIMEZONE
TZID:America/Denver
BEGIN:DAYLIGHT
TZOFFSETFROM:-0700
TZOFFSETTO:-0600
TZNAME:MDT
DTSTART:20260308T090000
END:DAYLIGHT
BEGIN:STANDARD
TZOFFSETFROM:-0600
TZOFFSETTO:-0700
TZNAME:MST
DTSTART:20261101T080000
END:STANDARD
END:VTIMEZONE
BEGIN:VEVENT
DTSTART;TZID=America/Denver:20260408T120000
DTEND;TZID=America/Denver:20260408T130000
DTSTAMP:20260423T053505
CREATED:20250701T063354Z
LAST-MODIFIED:20260401T135958Z
UID:10022438-1775649600-1775653200@seniorcenterjh.org
SUMMARY:Canasta
DESCRIPTION:Join us every Tuesday and Wednesday for a round or two of Canasta. We provide the cards\, so bring a friend and have some fun!
URL:https://seniorcenterjh.org/event/canasta/2026-04-08/
CATEGORIES:Social Activities
END:VEVENT
BEGIN:VEVENT
DTSTART;TZID=America/Denver:20260408T120000
DTEND;TZID=America/Denver:20260408T130000
DTSTAMP:20260423T053505
CREATED:20260403T044403Z
LAST-MODIFIED:20260403T044403Z
UID:10022877-1775649600-1775653200@seniorcenterjh.org
SUMMARY:Salisbury Steak
DESCRIPTION:Tossed Salad \nSalisbury Steak \nBaked Potatoes \nGreen Beans \nRoll \nPeanut Butter Cookie \nBreakfast Entree: French Toast & Bacon
URL:https://seniorcenterjh.org/event/salisbury-steak/
CATEGORIES:Lunch Menu
END:VEVENT
BEGIN:VEVENT
DTSTART;TZID=America/Denver:20260408T124500
DTEND;TZID=America/Denver:20260408T133000
DTSTAMP:20260423T053505
CREATED:20260403T041953Z
LAST-MODIFIED:20260403T041953Z
UID:10022831-1775652300-1775655000@seniorcenterjh.org
SUMMARY:Poetry Reading
DESCRIPTION:The Creative Aging poetry series ended in March\, after eight weeks of writing\, discussing\, and sharing our poetry. We had a lot of fun as we honed our craft and had the delight of getting to know one another better. We will present some of our work at a public reading in the dining room after lunch.
URL:https://seniorcenterjh.org/event/poetry-reading/
CATEGORIES:Social Activities
END:VEVENT
BEGIN:VEVENT
DTSTART;TZID=America/Denver:20260408T124500
DTEND;TZID=America/Denver:20260408T141500
DTSTAMP:20260423T053505
CREATED:20260401T205321Z
LAST-MODIFIED:20260401T210924Z
UID:10022750-1775652300-1775657700@seniorcenterjh.org
SUMMARY:Board Meeting
DESCRIPTION:The SCJH Board of Directors meeting is held from 12:45 pm to 2:15 pm in the Board Room.
URL:https://seniorcenterjh.org/event/board-meeting/2026-04-08/
CATEGORIES:Special Events
END:VEVENT
BEGIN:VEVENT
DTSTART;TZID=America/Denver:20260408T130000
DTEND;TZID=America/Denver:20260408T140000
DTSTAMP:20260423T053505
CREATED:20241227T220135Z
LAST-MODIFIED:20260401T140200Z
UID:10022627-1775653200-1775656800@seniorcenterjh.org
SUMMARY:Swissball Yoga
DESCRIPTION:Need a break from all of Coach Charlie’s strength and cardio fitness? Come slow it down with some yoga moves involving the BIG stability balls. It may also include band stretching and foam roller work to loosen those tight muscles. All skill levels are welcome!
URL:https://seniorcenterjh.org/event/swissball-yoga-2-2-2/2026-04-08/
CATEGORIES:Fitness
END:VEVENT
BEGIN:VEVENT
DTSTART;TZID=America/Denver:20260408T130000
DTEND;TZID=America/Denver:20260408T150000
DTSTAMP:20260423T053505
CREATED:20241227T220033Z
LAST-MODIFIED:20260401T140133Z
UID:10022622-1775653200-1775660400@seniorcenterjh.org
SUMMARY:Fun Bridge
DESCRIPTION:Join us for this laid-back\, friendly\, and welcoming weekly event to brush up on your bridge skills\, meet new people\, or reconnect with players who have been playing here for years!  Bridge players of all abilities are welcome. Weekly games at the Senior Center usually last about 3 hours. \nThe suggested contribution for Contract Bridge is $2.
URL:https://seniorcenterjh.org/event/fun-bridge-2-2-2-2/2026-04-08/
CATEGORIES:Social Activities
END:VEVENT
BEGIN:VEVENT
DTSTART;TZID=America/Denver:20260408T140000
DTEND;TZID=America/Denver:20260408T150000
DTSTAMP:20260423T053505
CREATED:20260129T053148Z
LAST-MODIFIED:20260401T140356Z
UID:10022634-1775656800-1775660400@seniorcenterjh.org
SUMMARY:On the Move
DESCRIPTION:This class is 12 weeks long and a twice-weekly commitment\, but it is well worth the sacrifice. Learn to walk better by improving balance\, posture\, and gait. You must sign up for this class in advance and be ready for the commitment. All skill levels are welcome! 
URL:https://seniorcenterjh.org/event/on-the-move-session-4-2-2-2/2026-04-08/
CATEGORIES:Fitness
END:VEVENT
BEGIN:VEVENT
DTSTART;TZID=America/Denver:20260409T090000
DTEND;TZID=America/Denver:20260409T100000
DTSTAMP:20260423T053505
CREATED:20251002T152214Z
LAST-MODIFIED:20260402T032559Z
UID:10022758-1775725200-1775728800@seniorcenterjh.org
SUMMARY:Functional Fitness
DESCRIPTION:Join this popular interval training class for an intense\, full-body workout! This active class offers a combination of strength\, agility\, and balance exercises. \nOur fitness classes are offered in person or online. \nTO PARTICIPATE FROM HOME\, CLICK HERE TO REGISTER AND JOIN THE CLASS!  Passcode: 1XmKsY \nYou will need hand weights (you can use cans/water bottles) and a stability ball.
URL:https://seniorcenterjh.org/event/functional-fitness-2-2/2026-04-09/
CATEGORIES:Fitness
END:VEVENT
BEGIN:VEVENT
DTSTART;TZID=America/Denver:20260409T103000
DTEND;TZID=America/Denver:20260409T113000
DTSTAMP:20260423T053505
CREATED:20251002T152425Z
LAST-MODIFIED:20260402T032741Z
UID:10022761-1775730600-1775734200@seniorcenterjh.org
SUMMARY:Yoga Basics
DESCRIPTION:Jo’s beloved Yoga Basics class has returned! This class is perfect for someone new to yoga or needing a refresher. Join the class in classic and basic moves that can build a good introduction to expand the practice of someone starting yoga or help someone totally new learn what yoga is all about. \nOur classes are offered in person or online. \n  \nTo participate from home\, click here to register and join the class online!  Passcode: 1XmKsY
URL:https://seniorcenterjh.org/event/yoga-basics-2-2-2-2-2/2026-04-09/
CATEGORIES:Fitness
END:VEVENT
BEGIN:VEVENT
DTSTART;TZID=America/Denver:20260409T110000
DTEND;TZID=America/Denver:20260409T120000
DTSTAMP:20260423T053505
CREATED:20251006T211708Z
LAST-MODIFIED:20260402T032633Z
UID:10022767-1775732400-1775736000@seniorcenterjh.org
SUMMARY:Beginners Bootcamp in Wilson
DESCRIPTION:Join Alice Widdess to build strength and confidence while improving your fitness in this class. We all work at our levels with motivating\, fun music. The class is appropriate for all levels of fitness. This hour-long group class combines the best of cardiovascular and strength training. It is full of variety that challenges the mind and body while alternating between timed intervals of low-intensity cardio\, upper-body strength exercises using hand weights and resistance bands\, and lower-body strength exercises using resistance bands as well as our own body weight for resistance. \nThis class is held at the Old Wilson Schoolhouse in Wilson. 
URL:https://seniorcenterjh.org/event/beginning-bootcamp-in-wilson/2026-04-09/
CATEGORIES:Fitness
END:VEVENT
BEGIN:VEVENT
DTSTART;TZID=America/Denver:20260409T113000
DTEND;TZID=America/Denver:20260409T123000
DTSTAMP:20260423T053505
CREATED:20251002T153226Z
LAST-MODIFIED:20260402T032653Z
UID:10022773-1775734200-1775737800@seniorcenterjh.org
SUMMARY:Hole Food Rescue
DESCRIPTION:Check out Hole Food Rescue’s free food table. There is no limit to how much you can take\, so if you are in need or know someone in need\, make sure to stop by and see what they have to offer you!
URL:https://seniorcenterjh.org/event/hole-food-rescue-2/2026-04-09/
CATEGORIES:Health & Wellness
END:VEVENT
BEGIN:VEVENT
DTSTART;TZID=America/Denver:20260409T120000
DTEND;TZID=America/Denver:20260409T130000
DTSTAMP:20260423T053505
CREATED:20251002T153440Z
LAST-MODIFIED:20260402T032832Z
UID:10022782-1775736000-1775739600@seniorcenterjh.org
SUMMARY:Dancing Through the Decades
DESCRIPTION:Join Lynette for this fun and unique fitness class. In this class\, Lynette will take you through the decades\, learning iconic dances from the decades past! No experience is required\, so come on in and enjoy some dancing and fun with friends!
URL:https://seniorcenterjh.org/event/dancing-through-the-decades-2-2-2-2/2026-04-09/
CATEGORIES:Fitness
END:VEVENT
BEGIN:VEVENT
DTSTART;TZID=America/Denver:20260409T120000
DTEND;TZID=America/Denver:20260409T130000
DTSTAMP:20260423T053505
CREATED:20260403T044520Z
LAST-MODIFIED:20260403T044520Z
UID:10022878-1775736000-1775739600@seniorcenterjh.org
SUMMARY:Chicken Salad
DESCRIPTION:Marinated Cucumber Salad \nChicken Salad on Croissant \nDill Pickle \nChips \nTapioca Pudding \nBreakfast Entree: Eggs Benedict
URL:https://seniorcenterjh.org/event/chicken-salad/
CATEGORIES:Lunch Menu
END:VEVENT
BEGIN:VEVENT
DTSTART;TZID=America/Denver:20260409T130000
DTEND;TZID=America/Denver:20260409T140000
DTSTAMP:20260423T053505
CREATED:20260302T055916Z
LAST-MODIFIED:20260402T033659Z
UID:10022796-1775739600-1775743200@seniorcenterjh.org
SUMMARY:Knitting Club
DESCRIPTION:Join our knitting club. Bring your project and work with other knitters to get some tips and maybe make some new friends! All are welcome\, but please note that this is not a knitting class\, but there are always knitters to offer advice and show new techniques.
URL:https://seniorcenterjh.org/event/knitting-club-2/2026-04-09/
CATEGORIES:Social Activities
END:VEVENT
BEGIN:VEVENT
DTSTART;TZID=America/Denver:20260409T130000
DTEND;TZID=America/Denver:20260409T160000
DTSTAMP:20260423T053505
CREATED:20251203T161333Z
LAST-MODIFIED:20260402T033623Z
UID:10022788-1775739600-1775750400@seniorcenterjh.org
SUMMARY:Duplicate Bridge
DESCRIPTION:Join us for a three hour session of ACBL duplicate bridge. $5/player. Some bridge experience is required. Need a partner? Have questions?  Email jhduplicate@gmail.com or call Ray at 208-520-4437.
URL:https://seniorcenterjh.org/event/duplicate-bridge-2-2/2026-04-09/
CATEGORIES:Social Activities
END:VEVENT
BEGIN:VEVENT
DTSTART;TZID=America/Denver:20260410T084500
DTEND;TZID=America/Denver:20260410T094500
DTSTAMP:20260423T053505
CREATED:20250703T053705Z
LAST-MODIFIED:20260402T033739Z
UID:10022802-1775810700-1775814300@seniorcenterjh.org
SUMMARY:Awake and Aligned
DESCRIPTION:Join Tori Lund for this class designed to energize your body and mind through breath\, movement\, and mindfulness. With chair and mat options available\, this session is accessible to all levels. Start your day feeling balanced\, refreshed\, and centered!
URL:https://seniorcenterjh.org/event/awake-and-aligned-2/2026-04-10/
CATEGORIES:Fitness
END:VEVENT
BEGIN:VEVENT
DTSTART;TZID=America/Denver:20260410T100000
DTEND;TZID=America/Denver:20260410T110000
DTSTAMP:20260423T053505
CREATED:20241030T062146Z
LAST-MODIFIED:20260401T135808Z
UID:10022609-1775815200-1775818800@seniorcenterjh.org
SUMMARY:Friday Classic Fitness with Alice
DESCRIPTION:Join Alice for this lively class filled with movement and music. This class utilizes classic techniques to work out multiple parts of the body. Fitness classes are offered in-person or online. \n  \nClick here to join the class on Zoom! Passcode: 1XmKsY
URL:https://seniorcenterjh.org/event/classic-fitness-with-alice-2/2026-04-10/
CATEGORIES:Fitness
END:VEVENT
BEGIN:VEVENT
DTSTART;TZID=America/Denver:20260410T101500
DTEND;TZID=America/Denver:20260410T114500
DTSTAMP:20260423T053505
CREATED:20250703T055556Z
LAST-MODIFIED:20260402T033931Z
UID:10022806-1775816100-1775821500@seniorcenterjh.org
SUMMARY:Jam55
DESCRIPTION:Join us this summer for casual jam sessions at the senior center. Whether you play ukulele\, guitar\, tambourine\, mandolin\, or any instrument you love\, come make music and new friends! All skill levels welcome. This isn’t a lesson\, just a fun hour of playing together.
URL:https://seniorcenterjh.org/event/uke55-jam-sessions/2026-04-10/
CATEGORIES:Social Activities
END:VEVENT
BEGIN:VEVENT
DTSTART;TZID=America/Denver:20260410T113000
DTEND;TZID=America/Denver:20260410T123000
DTSTAMP:20260423T053505
CREATED:20251002T153226Z
LAST-MODIFIED:20260402T032653Z
UID:10022774-1775820600-1775824200@seniorcenterjh.org
SUMMARY:Hole Food Rescue
DESCRIPTION:Check out Hole Food Rescue’s free food table. There is no limit to how much you can take\, so if you are in need or know someone in need\, make sure to stop by and see what they have to offer you!
URL:https://seniorcenterjh.org/event/hole-food-rescue-2/2026-04-10/
CATEGORIES:Health & Wellness
END:VEVENT
BEGIN:VEVENT
DTSTART;TZID=America/Denver:20260410T120000
DTEND;TZID=America/Denver:20260410T130000
DTSTAMP:20260423T053505
CREATED:20260403T044612Z
LAST-MODIFIED:20260403T044612Z
UID:10022879-1775822400-1775826000@seniorcenterjh.org
SUMMARY:Lamb Stew
DESCRIPTION:Tossed Salad \nLamb Stew with Couscous \nPita Bread \nPeach Cobbler \nBreakfast Entree: Chef’s Choice
URL:https://seniorcenterjh.org/event/lamb-stew/
CATEGORIES:Lunch Menu
END:VEVENT
BEGIN:VEVENT
DTSTART;TZID=America/Denver:20260410T130000
DTEND;TZID=America/Denver:20260410T140000
DTSTAMP:20260423T053505
CREATED:20250703T053805Z
LAST-MODIFIED:20260402T034055Z
UID:10022814-1775826000-1775829600@seniorcenterjh.org
SUMMARY:Collage Group
DESCRIPTION:Do you want to explore your collage skills? Join other Collage Workshop participants to practice your skills and continue making art. Don’t miss this special weekly event where you can socialize with other artists!
URL:https://seniorcenterjh.org/event/collage-group-2/2026-04-10/
CATEGORIES:Social Activities
END:VEVENT
BEGIN:VEVENT
DTSTART;TZID=America/Denver:20260410T130000
DTEND;TZID=America/Denver:20260410T140000
DTSTAMP:20260423T053505
CREATED:20260129T051134Z
LAST-MODIFIED:20260402T034147Z
UID:10022821-1775826000-1775829600@seniorcenterjh.org
SUMMARY:Cardio Drumming
DESCRIPTION:Don’t miss this special new class with Charlie. He will lead rhythmic drum routines on exercise balls that work your whole body and get your heart pumping! Come on in and enjoy some fun songs and learn how to drum for heart health. For more information about this class\, check out the video below!  \n\n 
URL:https://seniorcenterjh.org/event/cardio-drumming/2026-04-10/
CATEGORIES:Fitness
END:VEVENT
BEGIN:VEVENT
DTSTART;TZID=America/Denver:20260410T130000
DTEND;TZID=America/Denver:20260410T150000
DTSTAMP:20260423T053505
CREATED:20241203T202644Z
LAST-MODIFIED:20260402T034022Z
UID:10022810-1775826000-1775833200@seniorcenterjh.org
SUMMARY:Mahjong - Beginners Welcome!
DESCRIPTION:Join us for a game of Mahjong. Have fun with your friends or make new friends! This is a beginner-friendly gathering\, so if you want to learn something or are experienced\, we hope you join the game. Multi-table game.
URL:https://seniorcenterjh.org/event/american-mahjong-2-2/2026-04-10/
CATEGORIES:Social Activities
END:VEVENT
BEGIN:VEVENT
DTSTART;TZID=America/Denver:20260410T140000
DTEND;TZID=America/Denver:20260410T150000
DTSTAMP:20260423T053505
CREATED:20241030T062507Z
LAST-MODIFIED:20260402T034122Z
UID:10022818-1775829600-1775833200@seniorcenterjh.org
SUMMARY:Strength & Conditioning
DESCRIPTION:Charlie Shinkle teaches the basics of weightlifting. This class is for all levels beginner to experienced. Charlie will help you get & stay toned and increase your muscle mass and protect bone health.
URL:https://seniorcenterjh.org/event/strength-conditioning-2-2/2026-04-10/
CATEGORIES:Fitness
END:VEVENT
BEGIN:VEVENT
DTSTART;TZID=America/Denver:20260413T090000
DTEND;TZID=America/Denver:20260413T110000
DTSTAMP:20260423T053505
CREATED:20260401T140548Z
LAST-MODIFIED:20260401T140548Z
UID:10022637-1776070800-1776078000@seniorcenterjh.org
SUMMARY:Abstracting the Landscape
DESCRIPTION:Miga Rosetti is back to teach you how to turn the beauty you see around you into abstract art! The class will teach the foundations of abstract art and explore how to transform nature scenes into abstract works. The fee includes your own journal and supplies. Space is limited\, call the front desk for a spot today! \nThis class has a $35 fee that covers the entire series.
URL:https://seniorcenterjh.org/event/abstracting-the-landscape/2026-04-13/
END:VEVENT
BEGIN:VEVENT
DTSTART;TZID=America/Denver:20260413T103000
DTEND;TZID=America/Denver:20260413T113000
DTSTAMP:20260423T053505
CREATED:20260403T041403Z
LAST-MODIFIED:20260403T041403Z
UID:10022824-1776076200-1776079800@seniorcenterjh.org
SUMMARY:Fiction Writing
DESCRIPTION:Learn how to tell the stories that live in your head! Susan Marsh will be back to teach the fundamentals of fiction writing through in-class exercises and writing practice at home. Each class will include examples to read\, prompts to practice writing with\, and discussions of how fiction functions. Contact the front desk to reserve a spot today! \nThere is a $20 fee for the entire series. 
URL:https://seniorcenterjh.org/event/fiction-writing/2026-04-13/
CATEGORIES:Special Events,Art Classes
END:VEVENT
BEGIN:VEVENT
DTSTART;TZID=America/Denver:20260413T110000
DTEND;TZID=America/Denver:20260413T120000
DTSTAMP:20260423T053505
CREATED:20241030T062731Z
LAST-MODIFIED:20260403T043237Z
UID:10022844-1776078000-1776081600@seniorcenterjh.org
SUMMARY:Movement & Strength
DESCRIPTION:Don’t miss Charlie’s Movement and Strength class! A mixture of strength training and cardio fitness. Participants may be swinging kettlebells\, lifting weights overhead\, doing step work\, or even getting up and off the ground. All to the sound of classic rock\, disco\, and pop hits!!! All skill levels are welcome!
URL:https://seniorcenterjh.org/event/classic-fitness-2-2-2-2/2026-04-13/
CATEGORIES:Fitness
END:VEVENT
BEGIN:VEVENT
DTSTART;TZID=America/Denver:20260413T110000
DTEND;TZID=America/Denver:20260413T120000
DTSTAMP:20260423T053505
CREATED:20250331T042033Z
LAST-MODIFIED:20260403T042920Z
UID:10022837-1776078000-1776081600@seniorcenterjh.org
SUMMARY:Wilson Fitness with Alice
DESCRIPTION:Join Alice at the Old Wilson School House for our Classic Fitness class for a nicely balanced\, full-body workout to some GOOD music!
URL:https://seniorcenterjh.org/event/wilson-classic-fitness-with-alice-2-2-2-2/2026-04-13/
CATEGORIES:Fitness
END:VEVENT
BEGIN:VEVENT
DTSTART;TZID=America/Denver:20260413T120000
DTEND;TZID=America/Denver:20260413T130000
DTSTAMP:20260423T053505
CREATED:20260403T044754Z
LAST-MODIFIED:20260403T044754Z
UID:10022880-1776081600-1776085200@seniorcenterjh.org
SUMMARY:Italian Sub
DESCRIPTION:Soup & Salad Bar \nItalian Sub \nBrownies \nBreakfast Entree: Egg Bake
URL:https://seniorcenterjh.org/event/italian-sub/
CATEGORIES:Lunch Menu
END:VEVENT
BEGIN:VEVENT
DTSTART;TZID=America/Denver:20260413T130000
DTEND;TZID=America/Denver:20260413T160000
DTSTAMP:20260423T053505
CREATED:20251203T161333Z
LAST-MODIFIED:20260402T033623Z
UID:10022789-1776085200-1776096000@seniorcenterjh.org
SUMMARY:Duplicate Bridge
DESCRIPTION:Join us for a three hour session of ACBL duplicate bridge. $5/player. Some bridge experience is required. Need a partner? Have questions?  Email jhduplicate@gmail.com or call Ray at 208-520-4437.
URL:https://seniorcenterjh.org/event/duplicate-bridge-2-2/2026-04-13/
CATEGORIES:Social Activities
END:VEVENT
END:VCALENDAR