BEGIN:VCALENDAR
VERSION:2.0
PRODID:-//Senior Center of Jackson Hole - ECPv6.11.2.1//NONSGML v1.0//EN
CALSCALE:GREGORIAN
METHOD:PUBLISH
X-ORIGINAL-URL:https://seniorcenterjh.org
X-WR-CALDESC:Events for Senior Center of Jackson Hole
REFRESH-INTERVAL;VALUE=DURATION:PT1H
X-Robots-Tag:noindex
X-PUBLISHED-TTL:PT1H
BEGIN:VTIMEZONE
TZID:America/Denver
BEGIN:DAYLIGHT
TZOFFSETFROM:-0700
TZOFFSETTO:-0600
TZNAME:MDT
DTSTART:20260308T090000
END:DAYLIGHT
BEGIN:STANDARD
TZOFFSETFROM:-0600
TZOFFSETTO:-0700
TZNAME:MST
DTSTART:20261101T080000
END:STANDARD
END:VTIMEZONE
BEGIN:VEVENT
DTSTART;TZID=America/Denver:20260311T140000
DTEND;TZID=America/Denver:20260311T150000
DTSTAMP:20260421T130525
CREATED:20260129T053148Z
LAST-MODIFIED:20260401T140356Z
UID:10022383-1773237600-1773241200@seniorcenterjh.org
SUMMARY:On the Move
DESCRIPTION:This class is 12 weeks long and a twice-weekly commitment\, but it is well worth the sacrifice. Learn to walk better by improving balance\, posture\, and gait. You must sign up for this class in advance and be ready for the commitment. All skill levels are welcome! 
URL:https://seniorcenterjh.org/event/on-the-move-session-4-2-2-2/2026-03-11/
CATEGORIES:Fitness
END:VEVENT
BEGIN:VEVENT
DTSTART;TZID=America/Denver:20260312T090000
DTEND;TZID=America/Denver:20260312T100000
DTSTAMP:20260421T130525
CREATED:20251002T152214Z
LAST-MODIFIED:20260402T032559Z
UID:10022482-1773306000-1773309600@seniorcenterjh.org
SUMMARY:Functional Fitness
DESCRIPTION:Join this popular interval training class for an intense\, full-body workout! This active class offers a combination of strength\, agility\, and balance exercises. \nOur fitness classes are offered in person or online. \nTO PARTICIPATE FROM HOME\, CLICK HERE TO REGISTER AND JOIN THE CLASS!  Passcode: 1XmKsY \nYou will need hand weights (you can use cans/water bottles) and a stability ball.
URL:https://seniorcenterjh.org/event/functional-fitness-2-2/2026-03-12/
CATEGORIES:Fitness
END:VEVENT
BEGIN:VEVENT
DTSTART;TZID=America/Denver:20260312T103000
DTEND;TZID=America/Denver:20260312T113000
DTSTAMP:20260421T130525
CREATED:20251002T152425Z
LAST-MODIFIED:20260402T032741Z
UID:10022486-1773311400-1773315000@seniorcenterjh.org
SUMMARY:Yoga Basics
DESCRIPTION:Jo’s beloved Yoga Basics class has returned! This class is perfect for someone new to yoga or needing a refresher. Join the class in classic and basic moves that can build a good introduction to expand the practice of someone starting yoga or help someone totally new learn what yoga is all about. \nOur classes are offered in person or online. \n  \nTo participate from home\, click here to register and join the class online!  Passcode: 1XmKsY
URL:https://seniorcenterjh.org/event/yoga-basics-2-2-2-2-2/2026-03-12/
CATEGORIES:Fitness
END:VEVENT
BEGIN:VEVENT
DTSTART;TZID=America/Denver:20260312T104500
DTEND;TZID=America/Denver:20260312T114500
DTSTAMP:20260421T130525
CREATED:20251002T152540Z
LAST-MODIFIED:20260302T055356Z
UID:10022490-1773312300-1773315900@seniorcenterjh.org
SUMMARY:Chair Yoga with Julie
DESCRIPTION:Join Julie McLaurin for this low-intensity workout. Chair yoga modifies yoga poses so they can be done while seated in a chair. These modifications make yoga accessible to people who cannot stand or lack the mobility to move easily from standing to seated to supine positions. This month\, Chair Yoga will be outside on the North End lawn of the Senior Center so our yogis can enjoy the summer sun!
URL:https://seniorcenterjh.org/event/chair-yoga-3-2-2-2-2/2026-03-12/
CATEGORIES:Fitness
END:VEVENT
BEGIN:VEVENT
DTSTART;TZID=America/Denver:20260312T110000
DTEND;TZID=America/Denver:20260312T120000
DTSTAMP:20260421T130525
CREATED:20251006T211708Z
LAST-MODIFIED:20260402T032633Z
UID:10022494-1773313200-1773316800@seniorcenterjh.org
SUMMARY:Beginners Bootcamp in Wilson
DESCRIPTION:Join Alice Widdess to build strength and confidence while improving your fitness in this class. We all work at our levels with motivating\, fun music. The class is appropriate for all levels of fitness. This hour-long group class combines the best of cardiovascular and strength training. It is full of variety that challenges the mind and body while alternating between timed intervals of low-intensity cardio\, upper-body strength exercises using hand weights and resistance bands\, and lower-body strength exercises using resistance bands as well as our own body weight for resistance. \nThis class is held at the Old Wilson Schoolhouse in Wilson. 
URL:https://seniorcenterjh.org/event/beginning-bootcamp-in-wilson/2026-03-12/
CATEGORIES:Fitness
END:VEVENT
BEGIN:VEVENT
DTSTART;TZID=America/Denver:20260312T113000
DTEND;TZID=America/Denver:20260312T123000
DTSTAMP:20260421T130525
CREATED:20251002T153226Z
LAST-MODIFIED:20260402T032653Z
UID:10022499-1773315000-1773318600@seniorcenterjh.org
SUMMARY:Hole Food Rescue
DESCRIPTION:Check out Hole Food Rescue’s free food table. There is no limit to how much you can take\, so if you are in need or know someone in need\, make sure to stop by and see what they have to offer you!
URL:https://seniorcenterjh.org/event/hole-food-rescue-2/2026-03-12/
CATEGORIES:Health & Wellness
END:VEVENT
BEGIN:VEVENT
DTSTART;TZID=America/Denver:20260312T120000
DTEND;TZID=America/Denver:20260312T130000
DTSTAMP:20260421T130525
CREATED:20251002T153440Z
LAST-MODIFIED:20260402T032832Z
UID:10022506-1773316800-1773320400@seniorcenterjh.org
SUMMARY:Dancing Through the Decades
DESCRIPTION:Join Lynette for this fun and unique fitness class. In this class\, Lynette will take you through the decades\, learning iconic dances from the decades past! No experience is required\, so come on in and enjoy some dancing and fun with friends!
URL:https://seniorcenterjh.org/event/dancing-through-the-decades-2-2-2-2/2026-03-12/
CATEGORIES:Fitness
END:VEVENT
BEGIN:VEVENT
DTSTART;TZID=America/Denver:20260312T130000
DTEND;TZID=America/Denver:20260312T140000
DTSTAMP:20260421T130525
CREATED:20260302T055916Z
LAST-MODIFIED:20260402T033659Z
UID:10022508-1773320400-1773324000@seniorcenterjh.org
SUMMARY:Knitting Club
DESCRIPTION:Join our knitting club. Bring your project and work with other knitters to get some tips and maybe make some new friends! All are welcome\, but please note that this is not a knitting class\, but there are always knitters to offer advice and show new techniques.
URL:https://seniorcenterjh.org/event/knitting-club-2/2026-03-12/
CATEGORIES:Social Activities
END:VEVENT
BEGIN:VEVENT
DTSTART;TZID=America/Denver:20260312T130000
DTEND;TZID=America/Denver:20260312T160000
DTSTAMP:20260421T130525
CREATED:20251203T161333Z
LAST-MODIFIED:20260402T033623Z
UID:10022376-1773320400-1773331200@seniorcenterjh.org
SUMMARY:Duplicate Bridge
DESCRIPTION:Join us for a three hour session of ACBL duplicate bridge. $5/player. Some bridge experience is required. Need a partner? Have questions?  Email jhduplicate@gmail.com or call Ray at 208-520-4437.
URL:https://seniorcenterjh.org/event/duplicate-bridge-2-2/2026-03-12/
CATEGORIES:Social Activities
END:VEVENT
BEGIN:VEVENT
DTSTART;TZID=America/Denver:20260313T084500
DTEND;TZID=America/Denver:20260313T094500
DTSTAMP:20260421T130525
CREATED:20250703T053705Z
LAST-MODIFIED:20260402T033739Z
UID:10022512-1773391500-1773395100@seniorcenterjh.org
SUMMARY:Awake and Aligned
DESCRIPTION:Join Tori Lund for this class designed to energize your body and mind through breath\, movement\, and mindfulness. With chair and mat options available\, this session is accessible to all levels. Start your day feeling balanced\, refreshed\, and centered!
URL:https://seniorcenterjh.org/event/awake-and-aligned-2/2026-03-13/
CATEGORIES:Fitness
END:VEVENT
BEGIN:VEVENT
DTSTART;TZID=America/Denver:20260313T100000
DTEND;TZID=America/Denver:20260313T110000
DTSTAMP:20260421T130525
CREATED:20241030T062146Z
LAST-MODIFIED:20260401T135808Z
UID:10022360-1773396000-1773399600@seniorcenterjh.org
SUMMARY:Friday Classic Fitness with Alice
DESCRIPTION:Join Alice for this lively class filled with movement and music. This class utilizes classic techniques to work out multiple parts of the body. Fitness classes are offered in-person or online. \n  \nClick here to join the class on Zoom! Passcode: 1XmKsY
URL:https://seniorcenterjh.org/event/classic-fitness-with-alice-2/2026-03-13/
CATEGORIES:Fitness
END:VEVENT
BEGIN:VEVENT
DTSTART;TZID=America/Denver:20260313T101500
DTEND;TZID=America/Denver:20260313T114500
DTSTAMP:20260421T130525
CREATED:20250703T055556Z
LAST-MODIFIED:20260402T033931Z
UID:10022519-1773396900-1773402300@seniorcenterjh.org
SUMMARY:Jam55
DESCRIPTION:Join us this summer for casual jam sessions at the senior center. Whether you play ukulele\, guitar\, tambourine\, mandolin\, or any instrument you love\, come make music and new friends! All skill levels welcome. This isn’t a lesson\, just a fun hour of playing together.
URL:https://seniorcenterjh.org/event/uke55-jam-sessions/2026-03-13/
CATEGORIES:Social Activities
END:VEVENT
BEGIN:VEVENT
DTSTART;TZID=America/Denver:20260313T113000
DTEND;TZID=America/Denver:20260313T123000
DTSTAMP:20260421T130525
CREATED:20251002T153226Z
LAST-MODIFIED:20260402T032653Z
UID:10022500-1773401400-1773405000@seniorcenterjh.org
SUMMARY:Hole Food Rescue
DESCRIPTION:Check out Hole Food Rescue’s free food table. There is no limit to how much you can take\, so if you are in need or know someone in need\, make sure to stop by and see what they have to offer you!
URL:https://seniorcenterjh.org/event/hole-food-rescue-2/2026-03-13/
CATEGORIES:Health & Wellness
END:VEVENT
BEGIN:VEVENT
DTSTART;TZID=America/Denver:20260313T130000
DTEND;TZID=America/Denver:20260313T140000
DTSTAMP:20260421T130525
CREATED:20250703T053805Z
LAST-MODIFIED:20260402T034055Z
UID:10022579-1773406800-1773410400@seniorcenterjh.org
SUMMARY:Collage Group
DESCRIPTION:Do you want to explore your collage skills? Join other Collage Workshop participants to practice your skills and continue making art. Don’t miss this special weekly event where you can socialize with other artists!
URL:https://seniorcenterjh.org/event/collage-group-2/2026-03-13/
CATEGORIES:Social Activities
END:VEVENT
BEGIN:VEVENT
DTSTART;TZID=America/Denver:20260313T130000
DTEND;TZID=America/Denver:20260313T140000
DTSTAMP:20260421T130525
CREATED:20260129T051134Z
LAST-MODIFIED:20260402T034147Z
UID:10022527-1773406800-1773410400@seniorcenterjh.org
SUMMARY:Cardio Drumming
DESCRIPTION:Don’t miss this special new class with Charlie. He will lead rhythmic drum routines on exercise balls that work your whole body and get your heart pumping! Come on in and enjoy some fun songs and learn how to drum for heart health. For more information about this class\, check out the video below!  \n\n 
URL:https://seniorcenterjh.org/event/cardio-drumming/2026-03-13/
CATEGORIES:Fitness
END:VEVENT
BEGIN:VEVENT
DTSTART;TZID=America/Denver:20260313T130000
DTEND;TZID=America/Denver:20260313T150000
DTSTAMP:20260421T130525
CREATED:20241203T202644Z
LAST-MODIFIED:20260402T034022Z
UID:10022523-1773406800-1773414000@seniorcenterjh.org
SUMMARY:Mahjong - Beginners Welcome!
DESCRIPTION:Join us for a game of Mahjong. Have fun with your friends or make new friends! This is a beginner-friendly gathering\, so if you want to learn something or are experienced\, we hope you join the game. Multi-table game.
URL:https://seniorcenterjh.org/event/american-mahjong-2-2/2026-03-13/
CATEGORIES:Social Activities
END:VEVENT
BEGIN:VEVENT
DTSTART;TZID=America/Denver:20260313T140000
DTEND;TZID=America/Denver:20260313T150000
DTSTAMP:20260421T130525
CREATED:20241030T062507Z
LAST-MODIFIED:20260402T034122Z
UID:10022531-1773410400-1773414000@seniorcenterjh.org
SUMMARY:Strength & Conditioning
DESCRIPTION:Charlie Shinkle teaches the basics of weightlifting. This class is for all levels beginner to experienced. Charlie will help you get & stay toned and increase your muscle mass and protect bone health.
URL:https://seniorcenterjh.org/event/strength-conditioning-2-2/2026-03-13/
CATEGORIES:Fitness
END:VEVENT
BEGIN:VEVENT
DTSTART;TZID=America/Denver:20260316T100000
DTEND;TZID=America/Denver:20260316T113000
DTSTAMP:20260421T130525
CREATED:20260129T050958Z
LAST-MODIFIED:20260302T053210Z
UID:10022350-1773655200-1773660600@seniorcenterjh.org
SUMMARY:Poetry Writing Class
DESCRIPTION:Join Susan Marsh from Jackson Hole Writers for this special beginner’s poetry writing class. The class aims to get you comfortable with poetry\, both reading and writing it\, and helps you start to flex your creative muscle. Many people find writing poetry intimidating\, and this class will change that by helping you workshop your ideas in a space with other writers and friends! Don’t miss out! Reservations are required. For your first meeting\, be sure to bring a notebook\, pen\, and a favorite poem!  \nThere is a $20 suggested donation for this series. 
URL:https://seniorcenterjh.org/event/poetry-writing-class/2026-03-16/
CATEGORIES:Social Activities,Art Classes
END:VEVENT
BEGIN:VEVENT
DTSTART;TZID=America/Denver:20260316T110000
DTEND;TZID=America/Denver:20260316T120000
DTSTAMP:20260421T130525
CREATED:20241030T062731Z
LAST-MODIFIED:20260403T043237Z
UID:10022365-1773658800-1773662400@seniorcenterjh.org
SUMMARY:Movement & Strength
DESCRIPTION:Don’t miss Charlie’s Movement and Strength class! A mixture of strength training and cardio fitness. Participants may be swinging kettlebells\, lifting weights overhead\, doing step work\, or even getting up and off the ground. All to the sound of classic rock\, disco\, and pop hits!!! All skill levels are welcome!
URL:https://seniorcenterjh.org/event/classic-fitness-2-2-2-2/2026-03-16/
CATEGORIES:Fitness
END:VEVENT
BEGIN:VEVENT
DTSTART;TZID=America/Denver:20260316T110000
DTEND;TZID=America/Denver:20260316T120000
DTSTAMP:20260421T130525
CREATED:20250331T042033Z
LAST-MODIFIED:20260403T042920Z
UID:10022354-1773658800-1773662400@seniorcenterjh.org
SUMMARY:Wilson Fitness with Alice
DESCRIPTION:Join Alice at the Old Wilson School House for our Classic Fitness class for a nicely balanced\, full-body workout to some GOOD music!
URL:https://seniorcenterjh.org/event/wilson-classic-fitness-with-alice-2-2-2-2/2026-03-16/
CATEGORIES:Fitness
END:VEVENT
BEGIN:VEVENT
DTSTART;TZID=America/Denver:20260316T113000
DTEND;TZID=America/Denver:20260316T123000
DTSTAMP:20260421T130525
CREATED:20240930T192256Z
LAST-MODIFIED:20260403T043219Z
UID:10022370-1773660600-1773664200@seniorcenterjh.org
SUMMARY:Blood Pressure Check
DESCRIPTION:Weekly blood pressure checks can help you live a longer\, healthier life. Our Registered Nurse from the Home Care team will be here every Monday to give you those life-lengthening checks. Appointments are first come\, first served – no pre-registration is required. FREE for members.
URL:https://seniorcenterjh.org/event/blood-pressure-check-2-2/2026-03-16/
CATEGORIES:Health & Wellness
END:VEVENT
BEGIN:VEVENT
DTSTART;TZID=America/Denver:20260316T120000
DTEND;TZID=America/Denver:20260316T130000
DTSTAMP:20260421T130525
CREATED:20260305T221339Z
LAST-MODIFIED:20260305T221339Z
UID:10022582-1773662400-1773666000@seniorcenterjh.org
SUMMARY:Soup & Salad Bar
DESCRIPTION:French Onion Soup & Salad Bar \nFruit Slab Pie \nBreakfast Entree: Egg Bake
URL:https://seniorcenterjh.org/event/soup-salad-bar/
CATEGORIES:Lunch Menu
END:VEVENT
BEGIN:VEVENT
DTSTART;TZID=America/Denver:20260316T130000
DTEND;TZID=America/Denver:20260316T140000
DTSTAMP:20260421T130525
CREATED:20250703T054902Z
LAST-MODIFIED:20260401T140344Z
UID:10022388-1773666000-1773669600@seniorcenterjh.org
SUMMARY:On the Move
DESCRIPTION:This class is 12 weeks long and a twice-weekly commitment\, but it is well worth the sacrifice. Learn to walk better by improving balance\, posture\, and gait. You must sign up for this class in advance and be ready for the commitment. All skill levels are welcome! This class will begin on March 3rd. 
URL:https://seniorcenterjh.org/event/on-the-move-session-4-3/2026-03-16/
CATEGORIES:Fitness
END:VEVENT
BEGIN:VEVENT
DTSTART;TZID=America/Denver:20260316T130000
DTEND;TZID=America/Denver:20260316T160000
DTSTAMP:20260421T130525
CREATED:20241202T191002Z
LAST-MODIFIED:20260305T220237Z
UID:10019415-1773666000-1773676800@seniorcenterjh.org
SUMMARY:Podiatrist Visit
DESCRIPTION:Dr. Stanton Smith will return to provide 15-minute podiatry appointments\, focusing on nail care and callus treatment. Be sure to bring your Medicare and insurance card. You must schedule an appointment to see the podiatrist. Call 733-7300 to schedule.
URL:https://seniorcenterjh.org/event/podiatrist-visit/
CATEGORIES:Health & Wellness
END:VEVENT
BEGIN:VEVENT
DTSTART;TZID=America/Denver:20260316T130000
DTEND;TZID=America/Denver:20260316T160000
DTSTAMP:20260421T130525
CREATED:20251203T161333Z
LAST-MODIFIED:20260402T033623Z
UID:10022377-1773666000-1773676800@seniorcenterjh.org
SUMMARY:Duplicate Bridge
DESCRIPTION:Join us for a three hour session of ACBL duplicate bridge. $5/player. Some bridge experience is required. Need a partner? Have questions?  Email jhduplicate@gmail.com or call Ray at 208-520-4437.
URL:https://seniorcenterjh.org/event/duplicate-bridge-2-2/2026-03-16/
CATEGORIES:Social Activities
END:VEVENT
BEGIN:VEVENT
DTSTART;TZID=America/Denver:20260316T140000
DTEND;TZID=America/Denver:20260316T150000
DTSTAMP:20260421T130525
CREATED:20250601T215742Z
LAST-MODIFIED:20260403T043404Z
UID:10022393-1773669600-1773673200@seniorcenterjh.org
SUMMARY:Circuit Training
DESCRIPTION:Join Charlie for Circuit Training! Participants will combine strength training and cardio fitness through a series of stations\, each with its own fun activity. All skill levels are welcome. Have some fun and get sweaty with your friends.
URL:https://seniorcenterjh.org/event/circuit-training-2-2-2-2/2026-03-16/
CATEGORIES:Fitness
END:VEVENT
BEGIN:VEVENT
DTSTART;TZID=America/Denver:20260316T150000
DTEND;TZID=America/Denver:20260316T160000
DTSTAMP:20260421T130525
CREATED:20260306T195102Z
LAST-MODIFIED:20260403T043435Z
UID:10022398-1773673200-1773676800@seniorcenterjh.org
SUMMARY:CORE Yoga
DESCRIPTION:An active yoga class emphasizing core strength and stability using body weight and stability ball exercises.\n\nClick here for Zoom.
URL:https://seniorcenterjh.org/event/core-yoga-2-2-2/2026-03-16/
CATEGORIES:Fitness
END:VEVENT
BEGIN:VEVENT
DTSTART;TZID=America/Denver:20260317T090000
DTEND;TZID=America/Denver:20260317T100000
DTSTAMP:20260421T130525
CREATED:20241031T031445Z
LAST-MODIFIED:20260403T043510Z
UID:10022403-1773738000-1773741600@seniorcenterjh.org
SUMMARY:Pilates
DESCRIPTION:Join Michaela’s popular pilates class! Pilates is a great way to develop core strength\, stability\, and flexibility. Our fitness classes are offered in person or online. \nYou will need a yoga mat\, an exercise band\, a small ball\, and arm weights of 1\, 2\, or 3 lbs. \nTO PARTICIPATE FROM HOME\, CLICK HERE TO REGISTER AND JOIN THE CLASS!  Passcode: 1XmKsY \n 
URL:https://seniorcenterjh.org/event/pilates-2-2-2-2/2026-03-17/
CATEGORIES:Fitness
END:VEVENT
BEGIN:VEVENT
DTSTART;TZID=America/Denver:20260317T090000
DTEND;TZID=America/Denver:20260317T100000
DTSTAMP:20260421T130525
CREATED:20250430T060516Z
LAST-MODIFIED:20260302T054134Z
UID:10022418-1773738000-1773741600@seniorcenterjh.org
SUMMARY:Swedish Massages
DESCRIPTION:We’re excited to announce that 45-minute Swedish massage appointments will now be available. You can make appointments the last week of the month for the following month. There is a 24-hour cancellation policy. \nWe are excited to introduce Sabrina\, who is also on our Home Care team. She is here to help you relax\, rejuvenate\, and feel your absolute best.
URL:https://seniorcenterjh.org/event/swedish-massages-3-2/2026-03-17/
CATEGORIES:Health & Wellness
END:VEVENT
BEGIN:VEVENT
DTSTART;TZID=America/Denver:20260317T100000
DTEND;TZID=America/Denver:20260317T110000
DTSTAMP:20260421T130525
CREATED:20250430T060528Z
LAST-MODIFIED:20260302T054110Z
UID:10022413-1773741600-1773745200@seniorcenterjh.org
SUMMARY:Swedish Massages
DESCRIPTION:We’re excited to announce that 45-minute Swedish massage appointments will now be available. You can make appointments the last week of the month for the following month. There is a 24-hour cancellation policy. \nWe are excited to introduce Sabrina\, who is also on our Home Care team. She is here to help you relax\, rejuvenate\, and feel your absolute best.
URL:https://seniorcenterjh.org/event/swedish-massages-2-2-2/2026-03-17/
CATEGORIES:Health & Wellness
END:VEVENT
END:VCALENDAR