BEGIN:VCALENDAR
VERSION:2.0
PRODID:-//Senior Center of Jackson Hole - ECPv6.11.2.1//NONSGML v1.0//EN
CALSCALE:GREGORIAN
METHOD:PUBLISH
X-WR-CALNAME:Senior Center of Jackson Hole
X-ORIGINAL-URL:https://seniorcenterjh.org
X-WR-CALDESC:Events for Senior Center of Jackson Hole
REFRESH-INTERVAL;VALUE=DURATION:PT1H
X-Robots-Tag:noindex
X-PUBLISHED-TTL:PT1H
BEGIN:VTIMEZONE
TZID:America/Denver
BEGIN:DAYLIGHT
TZOFFSETFROM:-0700
TZOFFSETTO:-0600
TZNAME:MDT
DTSTART:20260308T090000
END:DAYLIGHT
BEGIN:STANDARD
TZOFFSETFROM:-0600
TZOFFSETTO:-0700
TZNAME:MST
DTSTART:20261101T080000
END:STANDARD
END:VTIMEZONE
BEGIN:VEVENT
DTSTART;TZID=America/Denver:20260324T090000
DTEND;TZID=America/Denver:20260324T100000
DTSTAMP:20260419T113924
CREATED:20241031T031445Z
LAST-MODIFIED:20260403T043510Z
UID:10022404-1774342800-1774346400@seniorcenterjh.org
SUMMARY:Pilates
DESCRIPTION:Join Michaela’s popular pilates class! Pilates is a great way to develop core strength\, stability\, and flexibility. Our fitness classes are offered in person or online. \nYou will need a yoga mat\, an exercise band\, a small ball\, and arm weights of 1\, 2\, or 3 lbs. \nTO PARTICIPATE FROM HOME\, CLICK HERE TO REGISTER AND JOIN THE CLASS!  Passcode: 1XmKsY \n 
URL:https://seniorcenterjh.org/event/pilates-2-2-2-2/2026-03-24/
CATEGORIES:Fitness
END:VEVENT
BEGIN:VEVENT
DTSTART;TZID=America/Denver:20260324T090000
DTEND;TZID=America/Denver:20260324T100000
DTSTAMP:20260419T113924
CREATED:20250430T060516Z
LAST-MODIFIED:20260302T054134Z
UID:10022419-1774342800-1774346400@seniorcenterjh.org
SUMMARY:Swedish Massages
DESCRIPTION:We’re excited to announce that 45-minute Swedish massage appointments will now be available. You can make appointments the last week of the month for the following month. There is a 24-hour cancellation policy. \nWe are excited to introduce Sabrina\, who is also on our Home Care team. She is here to help you relax\, rejuvenate\, and feel your absolute best.
URL:https://seniorcenterjh.org/event/swedish-massages-3-2/2026-03-24/
CATEGORIES:Health & Wellness
END:VEVENT
BEGIN:VEVENT
DTSTART;TZID=America/Denver:20260324T100000
DTEND;TZID=America/Denver:20260324T110000
DTSTAMP:20260419T113924
CREATED:20250430T060528Z
LAST-MODIFIED:20260302T054110Z
UID:10022414-1774346400-1774350000@seniorcenterjh.org
SUMMARY:Swedish Massages
DESCRIPTION:We’re excited to announce that 45-minute Swedish massage appointments will now be available. You can make appointments the last week of the month for the following month. There is a 24-hour cancellation policy. \nWe are excited to introduce Sabrina\, who is also on our Home Care team. She is here to help you relax\, rejuvenate\, and feel your absolute best.
URL:https://seniorcenterjh.org/event/swedish-massages-2-2-2/2026-03-24/
CATEGORIES:Health & Wellness
END:VEVENT
BEGIN:VEVENT
DTSTART;TZID=America/Denver:20260324T103000
DTEND;TZID=America/Denver:20260324T113000
DTSTAMP:20260419T113924
CREATED:20240703T161958Z
LAST-MODIFIED:20260403T043542Z
UID:10022424-1774348200-1774351800@seniorcenterjh.org
SUMMARY:Yoga
DESCRIPTION:Join Trish for this intermediate yoga class.  Classes change weekly and never repeat! Yoga is excellent for working on flexibility\, strength\, and balance. This class requires some experience. Make sure to bring your yoga mat! \nFor Zoom\, click here \nPassword: 1XmKsY
URL:https://seniorcenterjh.org/event/yoga/2026-03-24/
CATEGORIES:Fitness
END:VEVENT
BEGIN:VEVENT
DTSTART;TZID=America/Denver:20260324T110000
DTEND;TZID=America/Denver:20260324T114500
DTSTAMP:20260419T113924
CREATED:20251103T162025Z
LAST-MODIFIED:20260302T054046Z
UID:10022409-1774350000-1774352700@seniorcenterjh.org
SUMMARY:Chair Massage
DESCRIPTION:Enjoy a massage in our massage chair! First-come\, first-served!
URL:https://seniorcenterjh.org/event/chair-massage/2026-03-24/
CATEGORIES:Health & Wellness
END:VEVENT
BEGIN:VEVENT
DTSTART;TZID=America/Denver:20260324T114500
DTEND;TZID=America/Denver:20260324T122000
DTSTAMP:20260419T113924
CREATED:20260306T193849Z
LAST-MODIFIED:20260403T043651Z
UID:10022428-1774352700-1774354800@seniorcenterjh.org
SUMMARY:Senior Step with Alice
DESCRIPTION:Join Alice for a class all about cardio! Enjoy this low-impact aerobic exercise using a step while improving your cardiovascular fitness that helps maintain your weight or assist in losing weight– a short\, 35-minute class including warm-up and cool-down.  \nClick here for Zoom!
URL:https://seniorcenterjh.org/event/senior-step-with-alice/2026-03-24/
CATEGORIES:Fitness
END:VEVENT
BEGIN:VEVENT
DTSTART;TZID=America/Denver:20260324T120000
DTEND;TZID=America/Denver:20260324T130000
DTSTAMP:20260419T113924
CREATED:20260317T033701Z
LAST-MODIFIED:20260317T034120Z
UID:10022588-1774353600-1774357200@seniorcenterjh.org
SUMMARY:Glazed Salmon
DESCRIPTION:Birthday Lunch! \nMarinated Cucumber Salad \n Glazed Salmon with Mango Salsa over Rice \nSnow peas \nGarlic Naan \nBirthday Cake \nBreakfast Entree: Omelets
URL:https://seniorcenterjh.org/event/glazed-salmon/
CATEGORIES:Lunch Menu
END:VEVENT
BEGIN:VEVENT
DTSTART;TZID=America/Denver:20260324T130000
DTEND;TZID=America/Denver:20260324T140000
DTSTAMP:20260419T113924
CREATED:20260302T054533Z
LAST-MODIFIED:20260401T135937Z
UID:10022445-1774357200-1774360800@seniorcenterjh.org
SUMMARY:Canasta
DESCRIPTION:Join us every Tuesday and Wednesday for a round or two of Canasta. We provide the cards\, so bring a friend and have some fun!
URL:https://seniorcenterjh.org/event/canasta-2/2026-03-24/
CATEGORIES:Social Activities
END:VEVENT
BEGIN:VEVENT
DTSTART;TZID=America/Denver:20260324T130000
DTEND;TZID=America/Denver:20260324T150000
DTSTAMP:20260419T113924
CREATED:20250120T180626Z
LAST-MODIFIED:20260403T043733Z
UID:10022450-1774357200-1774364400@seniorcenterjh.org
SUMMARY:Pinochle
DESCRIPTION:The Senior Center hosts many different games of cards\, like Pinochle. So\, join us every Tuesday of the month for a round or two of Pinochle! Cards will be provided. Bring a friend and play some cards!
URL:https://seniorcenterjh.org/event/pinochle-3-2-2/2026-03-24/
CATEGORIES:Social Activities
END:VEVENT
BEGIN:VEVENT
DTSTART;TZID=America/Denver:20260324T133000
DTEND;TZID=America/Denver:20260324T143000
DTSTAMP:20260419T113924
CREATED:20240930T155935Z
LAST-MODIFIED:20260403T043954Z
UID:10022455-1774359000-1774362600@seniorcenterjh.org
SUMMARY:Strength with Jo
DESCRIPTION:Join Jo for a class that focuses on honing your strength and toning your muscles. This class is every Tuesday of the month! \nTo join the class from home\, click here.
URL:https://seniorcenterjh.org/event/strength-with-jo/2026-03-24/
CATEGORIES:Fitness
END:VEVENT
BEGIN:VEVENT
DTSTART;TZID=America/Denver:20260325T090000
DTEND;TZID=America/Denver:20260325T100000
DTSTAMP:20260419T113924
CREATED:20241227T214828Z
LAST-MODIFIED:20260401T135405Z
UID:10022460-1774429200-1774432800@seniorcenterjh.org
SUMMARY:Yoga for Strength
DESCRIPTION:Join Jo for her popular Yoga for Strength class! This class combines traditional yoga postures with strength training exercises to increase stability\, balance and strength. \nClick here to join the class online!
URL:https://seniorcenterjh.org/event/yoga-for-strength/2026-03-25/
CATEGORIES:Fitness
END:VEVENT
BEGIN:VEVENT
DTSTART;TZID=America/Denver:20260325T093000
DTEND;TZID=America/Denver:20260325T103000
DTSTAMP:20260419T113924
CREATED:20260102T162846Z
LAST-MODIFIED:20260302T054817Z
UID:10022464-1774431000-1774434600@seniorcenterjh.org
SUMMARY:Beginner Bridge
DESCRIPTION:Taught by Ralph Haberfeld. Bridge is a game that you can learn in 10 minutes but it takes a lifetime to master. It is the only game where AI cannot beat human experts! Once you have the basics down\, join in one of our many bridge groups during the week to connect with new friends!
URL:https://seniorcenterjh.org/event/beginning-bridge/2026-03-25/
CATEGORIES:Social Activities
END:VEVENT
BEGIN:VEVENT
DTSTART;TZID=America/Denver:20260325T103000
DTEND;TZID=America/Denver:20260325T113000
DTSTAMP:20260419T113924
CREATED:20240828T163836Z
LAST-MODIFIED:20260401T135556Z
UID:10022472-1774434600-1774438200@seniorcenterjh.org
SUMMARY:Tai Chi with Ken
DESCRIPTION:Greg is out\, but we will still be holding our Tai Chi class with instructor Ken! This gentle\, low-impact class is a great way to improve your balance\, agility\, and flexibility while releasing stress. Tai chi is a type of martial art and is a series of slow\, flowing movements that are great for treating or preventing injuries. This class is beginner-friendly\, so don’t worry if you have never done tai chi before! \nNo equipment is needed. \nJoin the online class by clicking here.
URL:https://seniorcenterjh.org/event/tai-chi-in-person-2-2-2-2/2026-03-25/
CATEGORIES:Fitness,Health & Wellness
END:VEVENT
BEGIN:VEVENT
DTSTART;TZID=America/Denver:20260325T114500
DTEND;TZID=America/Denver:20260325T124500
DTSTAMP:20260419T113924
CREATED:20251216T161224Z
LAST-MODIFIED:20260401T135818Z
UID:10022358-1774439100-1774442700@seniorcenterjh.org
SUMMARY:Wednesday Classic Fitness with Alice
DESCRIPTION:Join Alice for this lively class filled with movement and music. This class utilizes classic techniques to work out multiple parts of the body. Fitness classes are offered in-person or online. \n  \nClick here to join the class on Zoom!
URL:https://seniorcenterjh.org/event/classic-fitness-with-alice-2-2-2-3-2/2026-03-25/
CATEGORIES:Fitness
END:VEVENT
BEGIN:VEVENT
DTSTART;TZID=America/Denver:20260325T120000
DTEND;TZID=America/Denver:20260325T130000
DTSTAMP:20260419T113924
CREATED:20250701T063354Z
LAST-MODIFIED:20260401T135958Z
UID:10022436-1774440000-1774443600@seniorcenterjh.org
SUMMARY:Canasta
DESCRIPTION:Join us every Tuesday and Wednesday for a round or two of Canasta. We provide the cards\, so bring a friend and have some fun!
URL:https://seniorcenterjh.org/event/canasta/2026-03-25/
CATEGORIES:Social Activities
END:VEVENT
BEGIN:VEVENT
DTSTART;TZID=America/Denver:20260325T120000
DTEND;TZID=America/Denver:20260325T130000
DTSTAMP:20260419T113924
CREATED:20260317T033758Z
LAST-MODIFIED:20260317T033807Z
UID:10022589-1774440000-1774443600@seniorcenterjh.org
SUMMARY:Roast Beef
DESCRIPTION:Coleslaw \nRoast Beef \nBaked Sweet Potato \nSauteed Kale \nSourdough Pineapple Upside-Down Cake \nBreakfast Entree: French Toast & Bacon
URL:https://seniorcenterjh.org/event/roast-beef/
CATEGORIES:Lunch Menu
END:VEVENT
BEGIN:VEVENT
DTSTART;TZID=America/Denver:20260325T130000
DTEND;TZID=America/Denver:20260325T140000
DTSTAMP:20260419T113924
CREATED:20241227T220135Z
LAST-MODIFIED:20260401T140200Z
UID:10022480-1774443600-1774447200@seniorcenterjh.org
SUMMARY:Swissball Yoga
DESCRIPTION:Need a break from all of Coach Charlie’s strength and cardio fitness? Come slow it down with some yoga moves involving the BIG stability balls. It may also include band stretching and foam roller work to loosen those tight muscles. All skill levels are welcome!
URL:https://seniorcenterjh.org/event/swissball-yoga-2-2-2/2026-03-25/
CATEGORIES:Fitness
END:VEVENT
BEGIN:VEVENT
DTSTART;TZID=America/Denver:20260325T130000
DTEND;TZID=America/Denver:20260325T150000
DTSTAMP:20260419T113924
CREATED:20241227T220033Z
LAST-MODIFIED:20260401T140133Z
UID:10022476-1774443600-1774450800@seniorcenterjh.org
SUMMARY:Fun Bridge
DESCRIPTION:Join us for this laid-back\, friendly\, and welcoming weekly event to brush up on your bridge skills\, meet new people\, or reconnect with players who have been playing here for years!  Bridge players of all abilities are welcome. Weekly games at the Senior Center usually last about 3 hours. \nThe suggested contribution for Contract Bridge is $2.
URL:https://seniorcenterjh.org/event/fun-bridge-2-2-2-2/2026-03-25/
CATEGORIES:Social Activities
END:VEVENT
BEGIN:VEVENT
DTSTART;TZID=America/Denver:20260325T140000
DTEND;TZID=America/Denver:20260325T150000
DTSTAMP:20260419T113924
CREATED:20260129T053148Z
LAST-MODIFIED:20260401T140356Z
UID:10022385-1774447200-1774450800@seniorcenterjh.org
SUMMARY:On the Move
DESCRIPTION:This class is 12 weeks long and a twice-weekly commitment\, but it is well worth the sacrifice. Learn to walk better by improving balance\, posture\, and gait. You must sign up for this class in advance and be ready for the commitment. All skill levels are welcome! 
URL:https://seniorcenterjh.org/event/on-the-move-session-4-2-2-2/2026-03-25/
CATEGORIES:Fitness
END:VEVENT
BEGIN:VEVENT
DTSTART;TZID=America/Denver:20260326T090000
DTEND;TZID=America/Denver:20260326T100000
DTSTAMP:20260419T113924
CREATED:20251002T152214Z
LAST-MODIFIED:20260402T032559Z
UID:10022484-1774515600-1774519200@seniorcenterjh.org
SUMMARY:Functional Fitness
DESCRIPTION:Join this popular interval training class for an intense\, full-body workout! This active class offers a combination of strength\, agility\, and balance exercises. \nOur fitness classes are offered in person or online. \nTO PARTICIPATE FROM HOME\, CLICK HERE TO REGISTER AND JOIN THE CLASS!  Passcode: 1XmKsY \nYou will need hand weights (you can use cans/water bottles) and a stability ball.
URL:https://seniorcenterjh.org/event/functional-fitness-2-2/2026-03-26/
CATEGORIES:Fitness
END:VEVENT
BEGIN:VEVENT
DTSTART;TZID=America/Denver:20260326T103000
DTEND;TZID=America/Denver:20260326T113000
DTSTAMP:20260419T113924
CREATED:20251002T152425Z
LAST-MODIFIED:20260402T032741Z
UID:10022488-1774521000-1774524600@seniorcenterjh.org
SUMMARY:Yoga Basics
DESCRIPTION:Jo’s beloved Yoga Basics class has returned! This class is perfect for someone new to yoga or needing a refresher. Join the class in classic and basic moves that can build a good introduction to expand the practice of someone starting yoga or help someone totally new learn what yoga is all about. \nOur classes are offered in person or online. \n  \nTo participate from home\, click here to register and join the class online!  Passcode: 1XmKsY
URL:https://seniorcenterjh.org/event/yoga-basics-2-2-2-2-2/2026-03-26/
CATEGORIES:Fitness
END:VEVENT
BEGIN:VEVENT
DTSTART;TZID=America/Denver:20260326T104500
DTEND;TZID=America/Denver:20260326T114500
DTSTAMP:20260419T113924
CREATED:20251002T152540Z
LAST-MODIFIED:20260302T055356Z
UID:10022492-1774521900-1774525500@seniorcenterjh.org
SUMMARY:Chair Yoga with Julie
DESCRIPTION:Join Julie McLaurin for this low-intensity workout. Chair yoga modifies yoga poses so they can be done while seated in a chair. These modifications make yoga accessible to people who cannot stand or lack the mobility to move easily from standing to seated to supine positions. This month\, Chair Yoga will be outside on the North End lawn of the Senior Center so our yogis can enjoy the summer sun!
URL:https://seniorcenterjh.org/event/chair-yoga-3-2-2-2-2/2026-03-26/
CATEGORIES:Fitness
END:VEVENT
BEGIN:VEVENT
DTSTART;TZID=America/Denver:20260326T110000
DTEND;TZID=America/Denver:20260326T120000
DTSTAMP:20260419T113924
CREATED:20251006T211708Z
LAST-MODIFIED:20260402T032633Z
UID:10022766-1774522800-1774526400@seniorcenterjh.org
SUMMARY:Beginners Bootcamp in Wilson
DESCRIPTION:Join Alice Widdess to build strength and confidence while improving your fitness in this class. We all work at our levels with motivating\, fun music. The class is appropriate for all levels of fitness. This hour-long group class combines the best of cardiovascular and strength training. It is full of variety that challenges the mind and body while alternating between timed intervals of low-intensity cardio\, upper-body strength exercises using hand weights and resistance bands\, and lower-body strength exercises using resistance bands as well as our own body weight for resistance. \nThis class is held at the Old Wilson Schoolhouse in Wilson. 
URL:https://seniorcenterjh.org/event/beginning-bootcamp-in-wilson/2026-03-26/
CATEGORIES:Fitness
END:VEVENT
BEGIN:VEVENT
DTSTART;TZID=America/Denver:20260326T113000
DTEND;TZID=America/Denver:20260326T123000
DTSTAMP:20260419T113924
CREATED:20251002T153226Z
LAST-MODIFIED:20260402T032653Z
UID:10022503-1774524600-1774528200@seniorcenterjh.org
SUMMARY:Hole Food Rescue
DESCRIPTION:Check out Hole Food Rescue’s free food table. There is no limit to how much you can take\, so if you are in need or know someone in need\, make sure to stop by and see what they have to offer you!
URL:https://seniorcenterjh.org/event/hole-food-rescue-2/2026-03-26/
CATEGORIES:Health & Wellness
END:VEVENT
BEGIN:VEVENT
DTSTART;TZID=America/Denver:20260326T120000
DTEND;TZID=America/Denver:20260326T130000
DTSTAMP:20260419T113924
CREATED:20251002T153440Z
LAST-MODIFIED:20260402T032832Z
UID:10022781-1774526400-1774530000@seniorcenterjh.org
SUMMARY:Dancing Through the Decades
DESCRIPTION:Join Lynette for this fun and unique fitness class. In this class\, Lynette will take you through the decades\, learning iconic dances from the decades past! No experience is required\, so come on in and enjoy some dancing and fun with friends!
URL:https://seniorcenterjh.org/event/dancing-through-the-decades-2-2-2-2/2026-03-26/
CATEGORIES:Fitness
END:VEVENT
BEGIN:VEVENT
DTSTART;TZID=America/Denver:20260326T120000
DTEND;TZID=America/Denver:20260326T130000
DTSTAMP:20260419T113924
CREATED:20260317T033922Z
LAST-MODIFIED:20260317T033922Z
UID:10022590-1774526400-1774530000@seniorcenterjh.org
SUMMARY:Lasagne
DESCRIPTION:Broccoli Salad \nBeef or Veggie Lasagne \nRoasted Zucchini \nBread \nLemon bars \nBreakfast Entree: Eggs Benedict
URL:https://seniorcenterjh.org/event/lasagne/
CATEGORIES:Lunch Menu
END:VEVENT
BEGIN:VEVENT
DTSTART;TZID=America/Denver:20260326T130000
DTEND;TZID=America/Denver:20260326T140000
DTSTAMP:20260419T113924
CREATED:20260302T055916Z
LAST-MODIFIED:20260402T033659Z
UID:10022510-1774530000-1774533600@seniorcenterjh.org
SUMMARY:Knitting Club
DESCRIPTION:Join our knitting club. Bring your project and work with other knitters to get some tips and maybe make some new friends! All are welcome\, but please note that this is not a knitting class\, but there are always knitters to offer advice and show new techniques.
URL:https://seniorcenterjh.org/event/knitting-club-2/2026-03-26/
CATEGORIES:Social Activities
END:VEVENT
BEGIN:VEVENT
DTSTART;TZID=America/Denver:20260326T130000
DTEND;TZID=America/Denver:20260326T160000
DTSTAMP:20260419T113924
CREATED:20251203T161333Z
LAST-MODIFIED:20260402T033623Z
UID:10022380-1774530000-1774540800@seniorcenterjh.org
SUMMARY:Duplicate Bridge
DESCRIPTION:Join us for a three hour session of ACBL duplicate bridge. $5/player. Some bridge experience is required. Need a partner? Have questions?  Email jhduplicate@gmail.com or call Ray at 208-520-4437.
URL:https://seniorcenterjh.org/event/duplicate-bridge-2-2/2026-03-26/
CATEGORIES:Social Activities
END:VEVENT
BEGIN:VEVENT
DTSTART;TZID=America/Denver:20260327T084500
DTEND;TZID=America/Denver:20260327T094500
DTSTAMP:20260419T113924
CREATED:20250703T053705Z
LAST-MODIFIED:20260402T033739Z
UID:10022800-1774601100-1774604700@seniorcenterjh.org
SUMMARY:Awake and Aligned
DESCRIPTION:Join Tori Lund for this class designed to energize your body and mind through breath\, movement\, and mindfulness. With chair and mat options available\, this session is accessible to all levels. Start your day feeling balanced\, refreshed\, and centered!
URL:https://seniorcenterjh.org/event/awake-and-aligned-2/2026-03-27/
CATEGORIES:Fitness
END:VEVENT
BEGIN:VEVENT
DTSTART;TZID=America/Denver:20260327T084500
DTEND;TZID=America/Denver:20260327T094500
DTSTAMP:20260419T113924
CREATED:20250731T142342Z
LAST-MODIFIED:20260302T060042Z
UID:10020617-1774601100-1774604700@seniorcenterjh.org
SUMMARY:Awake and Aligned on the TV
DESCRIPTION:Tori will be out this week\, but don’t worry\, we will be holding this class on the TV instead! This class is designed to energize your body and mind through breath\, movement\, and mindfulness. With chair and mat options available\, this session is accessible to all levels. Start your day feeling balanced\, refreshed\, and centered!
URL:https://seniorcenterjh.org/event/awake-and-aligned-3/
CATEGORIES:Fitness
END:VEVENT
END:VCALENDAR