BEGIN:VCALENDAR
VERSION:2.0
PRODID:-//Senior Center of Jackson Hole - ECPv6.11.2.1//NONSGML v1.0//EN
CALSCALE:GREGORIAN
METHOD:PUBLISH
X-WR-CALNAME:Senior Center of Jackson Hole
X-ORIGINAL-URL:https://seniorcenterjh.org
X-WR-CALDESC:Events for Senior Center of Jackson Hole
REFRESH-INTERVAL;VALUE=DURATION:PT1H
X-Robots-Tag:noindex
X-PUBLISHED-TTL:PT1H
BEGIN:VTIMEZONE
TZID:America/Denver
BEGIN:DAYLIGHT
TZOFFSETFROM:-0700
TZOFFSETTO:-0600
TZNAME:MDT
DTSTART:20250309T090000
END:DAYLIGHT
BEGIN:STANDARD
TZOFFSETFROM:-0600
TZOFFSETTO:-0700
TZNAME:MST
DTSTART:20251102T080000
END:STANDARD
BEGIN:DAYLIGHT
TZOFFSETFROM:-0700
TZOFFSETTO:-0600
TZNAME:MDT
DTSTART:20260308T090000
END:DAYLIGHT
BEGIN:STANDARD
TZOFFSETFROM:-0600
TZOFFSETTO:-0700
TZNAME:MST
DTSTART:20261101T080000
END:STANDARD
END:VTIMEZONE
BEGIN:VEVENT
DTSTART;TZID=America/Denver:20251212T101500
DTEND;TZID=America/Denver:20251212T114500
DTSTAMP:20260423T104730
CREATED:20250703T055556Z
LAST-MODIFIED:20260402T033931Z
UID:10021462-1765534500-1765539900@seniorcenterjh.org
SUMMARY:Jam55
DESCRIPTION:Join us this summer for casual jam sessions at the senior center. Whether you play ukulele\, guitar\, tambourine\, mandolin\, or any instrument you love\, come make music and new friends! All skill levels welcome. This isn’t a lesson\, just a fun hour of playing together.
URL:https://seniorcenterjh.org/event/uke55-jam-sessions/2025-12-12/
CATEGORIES:Social Activities
END:VEVENT
BEGIN:VEVENT
DTSTART;TZID=America/Denver:20251212T130000
DTEND;TZID=America/Denver:20251212T140000
DTSTAMP:20260423T104730
CREATED:20250703T053805Z
LAST-MODIFIED:20260402T034055Z
UID:10022566-1765544400-1765548000@seniorcenterjh.org
SUMMARY:Collage Group
DESCRIPTION:Do you want to explore your collage skills? Join other Collage Workshop participants to practice your skills and continue making art. Don’t miss this special weekly event where you can socialize with other artists!
URL:https://seniorcenterjh.org/event/collage-group-2/2025-12-12/
CATEGORIES:Social Activities
END:VEVENT
BEGIN:VEVENT
DTSTART;TZID=America/Denver:20251212T130000
DTEND;TZID=America/Denver:20251212T150000
DTSTAMP:20260423T104730
CREATED:20241203T202644Z
LAST-MODIFIED:20260402T034022Z
UID:10021475-1765544400-1765551600@seniorcenterjh.org
SUMMARY:Mahjong - Beginners Welcome!
DESCRIPTION:Join us for a game of Mahjong. Have fun with your friends or make new friends! This is a beginner-friendly gathering\, so if you want to learn something or are experienced\, we hope you join the game. Multi-table game.
URL:https://seniorcenterjh.org/event/american-mahjong-2-2/2025-12-12/
CATEGORIES:Social Activities
END:VEVENT
BEGIN:VEVENT
DTSTART;TZID=America/Denver:20251215T130000
DTEND;TZID=America/Denver:20251215T160000
DTSTAMP:20260423T104730
CREATED:20251203T161333Z
LAST-MODIFIED:20260402T033623Z
UID:10021432-1765803600-1765814400@seniorcenterjh.org
SUMMARY:Duplicate Bridge
DESCRIPTION:Join us for a three hour session of ACBL duplicate bridge. $5/player. Some bridge experience is required. Need a partner? Have questions?  Email jhduplicate@gmail.com or call Ray at 208-520-4437.
URL:https://seniorcenterjh.org/event/duplicate-bridge-2-2/2025-12-15/
CATEGORIES:Social Activities
END:VEVENT
BEGIN:VEVENT
DTSTART;TZID=America/Denver:20251216T130000
DTEND;TZID=America/Denver:20251216T150000
DTSTAMP:20260423T104730
CREATED:20250120T180626Z
LAST-MODIFIED:20260403T043733Z
UID:10021864-1765890000-1765897200@seniorcenterjh.org
SUMMARY:Pinochle
DESCRIPTION:The Senior Center hosts many different games of cards\, like Pinochle. So\, join us every Tuesday of the month for a round or two of Pinochle! Cards will be provided. Bring a friend and play some cards!
URL:https://seniorcenterjh.org/event/pinochle-3-2-2/2025-12-16/
CATEGORIES:Social Activities
END:VEVENT
BEGIN:VEVENT
DTSTART;TZID=America/Denver:20251217T120000
DTEND;TZID=America/Denver:20251217T130000
DTSTAMP:20260423T104730
CREATED:20250701T063354Z
LAST-MODIFIED:20260401T135958Z
UID:10021854-1765972800-1765976400@seniorcenterjh.org
SUMMARY:Canasta
DESCRIPTION:Join us every Tuesday and Wednesday for a round or two of Canasta. We provide the cards\, so bring a friend and have some fun!
URL:https://seniorcenterjh.org/event/canasta/2025-12-17/
CATEGORIES:Social Activities
END:VEVENT
BEGIN:VEVENT
DTSTART;TZID=America/Denver:20251217T130000
DTEND;TZID=America/Denver:20251217T150000
DTSTAMP:20260423T104730
CREATED:20241227T220033Z
LAST-MODIFIED:20260401T140133Z
UID:10021899-1765976400-1765983600@seniorcenterjh.org
SUMMARY:Fun Bridge
DESCRIPTION:Join us for this laid-back\, friendly\, and welcoming weekly event to brush up on your bridge skills\, meet new people\, or reconnect with players who have been playing here for years!  Bridge players of all abilities are welcome. Weekly games at the Senior Center usually last about 3 hours. \nThe suggested contribution for Contract Bridge is $2.
URL:https://seniorcenterjh.org/event/fun-bridge-2-2-2-2/2025-12-17/
CATEGORIES:Social Activities
END:VEVENT
BEGIN:VEVENT
DTSTART;TZID=America/Denver:20251218T130000
DTEND;TZID=America/Denver:20251218T160000
DTSTAMP:20260423T104730
CREATED:20251203T161333Z
LAST-MODIFIED:20260402T033623Z
UID:10021433-1766062800-1766073600@seniorcenterjh.org
SUMMARY:Duplicate Bridge
DESCRIPTION:Join us for a three hour session of ACBL duplicate bridge. $5/player. Some bridge experience is required. Need a partner? Have questions?  Email jhduplicate@gmail.com or call Ray at 208-520-4437.
URL:https://seniorcenterjh.org/event/duplicate-bridge-2-2/2025-12-18/
CATEGORIES:Social Activities
END:VEVENT
BEGIN:VEVENT
DTSTART;TZID=America/Denver:20251219T101500
DTEND;TZID=America/Denver:20251219T114500
DTSTAMP:20260423T104730
CREATED:20250703T055556Z
LAST-MODIFIED:20260402T033931Z
UID:10021463-1766139300-1766144700@seniorcenterjh.org
SUMMARY:Jam55
DESCRIPTION:Join us this summer for casual jam sessions at the senior center. Whether you play ukulele\, guitar\, tambourine\, mandolin\, or any instrument you love\, come make music and new friends! All skill levels welcome. This isn’t a lesson\, just a fun hour of playing together.
URL:https://seniorcenterjh.org/event/uke55-jam-sessions/2025-12-19/
CATEGORIES:Social Activities
END:VEVENT
BEGIN:VEVENT
DTSTART;TZID=America/Denver:20251219T130000
DTEND;TZID=America/Denver:20251219T140000
DTSTAMP:20260423T104730
CREATED:20250703T053805Z
LAST-MODIFIED:20260402T034055Z
UID:10022567-1766149200-1766152800@seniorcenterjh.org
SUMMARY:Collage Group
DESCRIPTION:Do you want to explore your collage skills? Join other Collage Workshop participants to practice your skills and continue making art. Don’t miss this special weekly event where you can socialize with other artists!
URL:https://seniorcenterjh.org/event/collage-group-2/2025-12-19/
CATEGORIES:Social Activities
END:VEVENT
BEGIN:VEVENT
DTSTART;TZID=America/Denver:20251219T130000
DTEND;TZID=America/Denver:20251219T150000
DTSTAMP:20260423T104730
CREATED:20241203T202644Z
LAST-MODIFIED:20260402T034022Z
UID:10021476-1766149200-1766156400@seniorcenterjh.org
SUMMARY:Mahjong - Beginners Welcome!
DESCRIPTION:Join us for a game of Mahjong. Have fun with your friends or make new friends! This is a beginner-friendly gathering\, so if you want to learn something or are experienced\, we hope you join the game. Multi-table game.
URL:https://seniorcenterjh.org/event/american-mahjong-2-2/2025-12-19/
CATEGORIES:Social Activities
END:VEVENT
BEGIN:VEVENT
DTSTART;TZID=America/Denver:20251222T130000
DTEND;TZID=America/Denver:20251222T160000
DTSTAMP:20260423T104730
CREATED:20251203T161333Z
LAST-MODIFIED:20260402T033623Z
UID:10021434-1766408400-1766419200@seniorcenterjh.org
SUMMARY:Duplicate Bridge
DESCRIPTION:Join us for a three hour session of ACBL duplicate bridge. $5/player. Some bridge experience is required. Need a partner? Have questions?  Email jhduplicate@gmail.com or call Ray at 208-520-4437.
URL:https://seniorcenterjh.org/event/duplicate-bridge-2-2/2025-12-22/
CATEGORIES:Social Activities
END:VEVENT
BEGIN:VEVENT
DTSTART;TZID=America/Denver:20251223T130000
DTEND;TZID=America/Denver:20251223T150000
DTSTAMP:20260423T104730
CREATED:20250120T180626Z
LAST-MODIFIED:20260403T043733Z
UID:10021865-1766494800-1766502000@seniorcenterjh.org
SUMMARY:Pinochle
DESCRIPTION:The Senior Center hosts many different games of cards\, like Pinochle. So\, join us every Tuesday of the month for a round or two of Pinochle! Cards will be provided. Bring a friend and play some cards!
URL:https://seniorcenterjh.org/event/pinochle-3-2-2/2025-12-23/
CATEGORIES:Social Activities
END:VEVENT
BEGIN:VEVENT
DTSTART;TZID=America/Denver:20251224T120000
DTEND;TZID=America/Denver:20251224T130000
DTSTAMP:20260423T104730
CREATED:20250701T063354Z
LAST-MODIFIED:20260401T135958Z
UID:10021855-1766577600-1766581200@seniorcenterjh.org
SUMMARY:Canasta
DESCRIPTION:Join us every Tuesday and Wednesday for a round or two of Canasta. We provide the cards\, so bring a friend and have some fun!
URL:https://seniorcenterjh.org/event/canasta/2025-12-24/
CATEGORIES:Social Activities
END:VEVENT
BEGIN:VEVENT
DTSTART;TZID=America/Denver:20251224T130000
DTEND;TZID=America/Denver:20251224T150000
DTSTAMP:20260423T104730
CREATED:20241227T220033Z
LAST-MODIFIED:20260401T140133Z
UID:10021900-1766581200-1766588400@seniorcenterjh.org
SUMMARY:Fun Bridge
DESCRIPTION:Join us for this laid-back\, friendly\, and welcoming weekly event to brush up on your bridge skills\, meet new people\, or reconnect with players who have been playing here for years!  Bridge players of all abilities are welcome. Weekly games at the Senior Center usually last about 3 hours. \nThe suggested contribution for Contract Bridge is $2.
URL:https://seniorcenterjh.org/event/fun-bridge-2-2-2-2/2025-12-24/
CATEGORIES:Social Activities
END:VEVENT
BEGIN:VEVENT
DTSTART;TZID=America/Denver:20251225T130000
DTEND;TZID=America/Denver:20251225T160000
DTSTAMP:20260423T104730
CREATED:20251203T161333Z
LAST-MODIFIED:20260402T033623Z
UID:10022196-1766667600-1766678400@seniorcenterjh.org
SUMMARY:Duplicate Bridge
DESCRIPTION:Join us for a three hour session of ACBL duplicate bridge. $5/player. Some bridge experience is required. Need a partner? Have questions?  Email jhduplicate@gmail.com or call Ray at 208-520-4437.
URL:https://seniorcenterjh.org/event/duplicate-bridge-2-2/2025-12-25/
CATEGORIES:Social Activities
END:VEVENT
BEGIN:VEVENT
DTSTART;TZID=America/Denver:20251226T101500
DTEND;TZID=America/Denver:20251226T114500
DTSTAMP:20260423T104730
CREATED:20250703T055556Z
LAST-MODIFIED:20260402T033931Z
UID:10021955-1766744100-1766749500@seniorcenterjh.org
SUMMARY:Jam55
DESCRIPTION:Join us this summer for casual jam sessions at the senior center. Whether you play ukulele\, guitar\, tambourine\, mandolin\, or any instrument you love\, come make music and new friends! All skill levels welcome. This isn’t a lesson\, just a fun hour of playing together.
URL:https://seniorcenterjh.org/event/uke55-jam-sessions/2025-12-26/
CATEGORIES:Social Activities
END:VEVENT
BEGIN:VEVENT
DTSTART;TZID=America/Denver:20251226T130000
DTEND;TZID=America/Denver:20251226T140000
DTSTAMP:20260423T104730
CREATED:20250703T053805Z
LAST-MODIFIED:20260402T034055Z
UID:10022568-1766754000-1766757600@seniorcenterjh.org
SUMMARY:Collage Group
DESCRIPTION:Do you want to explore your collage skills? Join other Collage Workshop participants to practice your skills and continue making art. Don’t miss this special weekly event where you can socialize with other artists!
URL:https://seniorcenterjh.org/event/collage-group-2/2025-12-26/
CATEGORIES:Social Activities
END:VEVENT
BEGIN:VEVENT
DTSTART;TZID=America/Denver:20251226T130000
DTEND;TZID=America/Denver:20251226T150000
DTSTAMP:20260423T104730
CREATED:20241203T202644Z
LAST-MODIFIED:20260402T034022Z
UID:10021973-1766754000-1766761200@seniorcenterjh.org
SUMMARY:Mahjong - Beginners Welcome!
DESCRIPTION:Join us for a game of Mahjong. Have fun with your friends or make new friends! This is a beginner-friendly gathering\, so if you want to learn something or are experienced\, we hope you join the game. Multi-table game.
URL:https://seniorcenterjh.org/event/american-mahjong-2-2/2025-12-26/
CATEGORIES:Social Activities
END:VEVENT
BEGIN:VEVENT
DTSTART;TZID=America/Denver:20251229T130000
DTEND;TZID=America/Denver:20251229T160000
DTSTAMP:20260423T104730
CREATED:20251203T161333Z
LAST-MODIFIED:20260402T033623Z
UID:10021436-1767013200-1767024000@seniorcenterjh.org
SUMMARY:Duplicate Bridge
DESCRIPTION:Join us for a three hour session of ACBL duplicate bridge. $5/player. Some bridge experience is required. Need a partner? Have questions?  Email jhduplicate@gmail.com or call Ray at 208-520-4437.
URL:https://seniorcenterjh.org/event/duplicate-bridge-2-2/2025-12-29/
CATEGORIES:Social Activities
END:VEVENT
BEGIN:VEVENT
DTSTART;TZID=America/Denver:20251230T130000
DTEND;TZID=America/Denver:20251230T150000
DTSTAMP:20260423T104730
CREATED:20250120T180626Z
LAST-MODIFIED:20260403T043733Z
UID:10021866-1767099600-1767106800@seniorcenterjh.org
SUMMARY:Pinochle
DESCRIPTION:The Senior Center hosts many different games of cards\, like Pinochle. So\, join us every Tuesday of the month for a round or two of Pinochle! Cards will be provided. Bring a friend and play some cards!
URL:https://seniorcenterjh.org/event/pinochle-3-2-2/2025-12-30/
CATEGORIES:Social Activities
END:VEVENT
BEGIN:VEVENT
DTSTART;TZID=America/Denver:20251231T120000
DTEND;TZID=America/Denver:20251231T130000
DTSTAMP:20260423T104730
CREATED:20250701T063354Z
LAST-MODIFIED:20260401T135958Z
UID:10021856-1767182400-1767186000@seniorcenterjh.org
SUMMARY:Canasta
DESCRIPTION:Join us every Tuesday and Wednesday for a round or two of Canasta. We provide the cards\, so bring a friend and have some fun!
URL:https://seniorcenterjh.org/event/canasta/2025-12-31/
CATEGORIES:Social Activities
END:VEVENT
BEGIN:VEVENT
DTSTART;TZID=America/Denver:20251231T130000
DTEND;TZID=America/Denver:20251231T150000
DTSTAMP:20260423T104730
CREATED:20241227T220033Z
LAST-MODIFIED:20260401T140133Z
UID:10021901-1767186000-1767193200@seniorcenterjh.org
SUMMARY:Fun Bridge
DESCRIPTION:Join us for this laid-back\, friendly\, and welcoming weekly event to brush up on your bridge skills\, meet new people\, or reconnect with players who have been playing here for years!  Bridge players of all abilities are welcome. Weekly games at the Senior Center usually last about 3 hours. \nThe suggested contribution for Contract Bridge is $2.
URL:https://seniorcenterjh.org/event/fun-bridge-2-2-2-2/2025-12-31/
CATEGORIES:Social Activities
END:VEVENT
BEGIN:VEVENT
DTSTART;TZID=America/Denver:20260101T130000
DTEND;TZID=America/Denver:20260101T160000
DTSTAMP:20260423T104730
CREATED:20251203T161333Z
LAST-MODIFIED:20260402T033623Z
UID:10022011-1767272400-1767283200@seniorcenterjh.org
SUMMARY:Duplicate Bridge
DESCRIPTION:Join us for a three hour session of ACBL duplicate bridge. $5/player. Some bridge experience is required. Need a partner? Have questions?  Email jhduplicate@gmail.com or call Ray at 208-520-4437.
URL:https://seniorcenterjh.org/event/duplicate-bridge-2-2/2026-01-01/
CATEGORIES:Social Activities
END:VEVENT
BEGIN:VEVENT
DTSTART;TZID=America/Denver:20260102T101500
DTEND;TZID=America/Denver:20260102T114500
DTSTAMP:20260423T104730
CREATED:20250703T055556Z
LAST-MODIFIED:20260402T033931Z
UID:10021956-1767348900-1767354300@seniorcenterjh.org
SUMMARY:Jam55
DESCRIPTION:Join us this summer for casual jam sessions at the senior center. Whether you play ukulele\, guitar\, tambourine\, mandolin\, or any instrument you love\, come make music and new friends! All skill levels welcome. This isn’t a lesson\, just a fun hour of playing together.
URL:https://seniorcenterjh.org/event/uke55-jam-sessions/2026-01-02/
CATEGORIES:Social Activities
END:VEVENT
BEGIN:VEVENT
DTSTART;TZID=America/Denver:20260102T130000
DTEND;TZID=America/Denver:20260102T140000
DTSTAMP:20260423T104730
CREATED:20250703T053805Z
LAST-MODIFIED:20260402T034055Z
UID:10022569-1767358800-1767362400@seniorcenterjh.org
SUMMARY:Collage Group
DESCRIPTION:Do you want to explore your collage skills? Join other Collage Workshop participants to practice your skills and continue making art. Don’t miss this special weekly event where you can socialize with other artists!
URL:https://seniorcenterjh.org/event/collage-group-2/2026-01-02/
CATEGORIES:Social Activities
END:VEVENT
BEGIN:VEVENT
DTSTART;TZID=America/Denver:20260102T130000
DTEND;TZID=America/Denver:20260102T150000
DTSTAMP:20260423T104730
CREATED:20241203T202644Z
LAST-MODIFIED:20260402T034022Z
UID:10021974-1767358800-1767366000@seniorcenterjh.org
SUMMARY:Mahjong - Beginners Welcome!
DESCRIPTION:Join us for a game of Mahjong. Have fun with your friends or make new friends! This is a beginner-friendly gathering\, so if you want to learn something or are experienced\, we hope you join the game. Multi-table game.
URL:https://seniorcenterjh.org/event/american-mahjong-2-2/2026-01-02/
CATEGORIES:Social Activities
END:VEVENT
BEGIN:VEVENT
DTSTART;TZID=America/Denver:20260105T130000
DTEND;TZID=America/Denver:20260105T160000
DTSTAMP:20260423T104730
CREATED:20251203T161333Z
LAST-MODIFIED:20260402T033623Z
UID:10022012-1767618000-1767628800@seniorcenterjh.org
SUMMARY:Duplicate Bridge
DESCRIPTION:Join us for a three hour session of ACBL duplicate bridge. $5/player. Some bridge experience is required. Need a partner? Have questions?  Email jhduplicate@gmail.com or call Ray at 208-520-4437.
URL:https://seniorcenterjh.org/event/duplicate-bridge-2-2/2026-01-05/
CATEGORIES:Social Activities
END:VEVENT
BEGIN:VEVENT
DTSTART;TZID=America/Denver:20260106T130000
DTEND;TZID=America/Denver:20260106T150000
DTSTAMP:20260423T104730
CREATED:20250120T180626Z
LAST-MODIFIED:20260403T043733Z
UID:10022070-1767704400-1767711600@seniorcenterjh.org
SUMMARY:Pinochle
DESCRIPTION:The Senior Center hosts many different games of cards\, like Pinochle. So\, join us every Tuesday of the month for a round or two of Pinochle! Cards will be provided. Bring a friend and play some cards!
URL:https://seniorcenterjh.org/event/pinochle-3-2-2/2026-01-06/
CATEGORIES:Social Activities
END:VEVENT
BEGIN:VEVENT
DTSTART;TZID=America/Denver:20260107T120000
DTEND;TZID=America/Denver:20260107T130000
DTSTAMP:20260423T104730
CREATED:20250701T063354Z
LAST-MODIFIED:20260401T135958Z
UID:10022062-1767787200-1767790800@seniorcenterjh.org
SUMMARY:Canasta
DESCRIPTION:Join us every Tuesday and Wednesday for a round or two of Canasta. We provide the cards\, so bring a friend and have some fun!
URL:https://seniorcenterjh.org/event/canasta/2026-01-07/
CATEGORIES:Social Activities
END:VEVENT
END:VCALENDAR