BEGIN:VCALENDAR
VERSION:2.0
PRODID:-//Senior Center of Jackson Hole - ECPv6.11.2.1//NONSGML v1.0//EN
CALSCALE:GREGORIAN
METHOD:PUBLISH
X-WR-CALNAME:Senior Center of Jackson Hole
X-ORIGINAL-URL:https://seniorcenterjh.org
X-WR-CALDESC:Events for Senior Center of Jackson Hole
REFRESH-INTERVAL;VALUE=DURATION:PT1H
X-Robots-Tag:noindex
X-PUBLISHED-TTL:PT1H
BEGIN:VTIMEZONE
TZID:America/Denver
BEGIN:DAYLIGHT
TZOFFSETFROM:-0700
TZOFFSETTO:-0600
TZNAME:MDT
DTSTART:20250309T090000
END:DAYLIGHT
BEGIN:STANDARD
TZOFFSETFROM:-0600
TZOFFSETTO:-0700
TZNAME:MST
DTSTART:20251102T080000
END:STANDARD
END:VTIMEZONE
BEGIN:VEVENT
DTSTART;TZID=America/Denver:20251024T101500
DTEND;TZID=America/Denver:20251024T114500
DTSTAMP:20260421T100101
CREATED:20250703T055556Z
LAST-MODIFIED:20260402T033931Z
UID:10021455-1761300900-1761306300@seniorcenterjh.org
SUMMARY:Jam55
DESCRIPTION:Join us this summer for casual jam sessions at the senior center. Whether you play ukulele\, guitar\, tambourine\, mandolin\, or any instrument you love\, come make music and new friends! All skill levels welcome. This isn’t a lesson\, just a fun hour of playing together.
URL:https://seniorcenterjh.org/event/uke55-jam-sessions/2025-10-24/
CATEGORIES:Social Activities
END:VEVENT
BEGIN:VEVENT
DTSTART;TZID=America/Denver:20251024T130000
DTEND;TZID=America/Denver:20251024T140000
DTSTAMP:20260421T100101
CREATED:20250703T053805Z
LAST-MODIFIED:20260402T034055Z
UID:10022559-1761310800-1761314400@seniorcenterjh.org
SUMMARY:Collage Group
DESCRIPTION:Do you want to explore your collage skills? Join other Collage Workshop participants to practice your skills and continue making art. Don’t miss this special weekly event where you can socialize with other artists!
URL:https://seniorcenterjh.org/event/collage-group-2/2025-10-24/
CATEGORIES:Social Activities
END:VEVENT
BEGIN:VEVENT
DTSTART;TZID=America/Denver:20251024T130000
DTEND;TZID=America/Denver:20251024T150000
DTSTAMP:20260421T100101
CREATED:20241203T202644Z
LAST-MODIFIED:20260402T034022Z
UID:10021468-1761310800-1761318000@seniorcenterjh.org
SUMMARY:Mahjong - Beginners Welcome!
DESCRIPTION:Join us for a game of Mahjong. Have fun with your friends or make new friends! This is a beginner-friendly gathering\, so if you want to learn something or are experienced\, we hope you join the game. Multi-table game.
URL:https://seniorcenterjh.org/event/american-mahjong-2-2/2025-10-24/
CATEGORIES:Social Activities
END:VEVENT
END:VCALENDAR