BEGIN:VCALENDAR
VERSION:2.0
PRODID:-//Senior Center of Jackson Hole - ECPv6.11.2.1//NONSGML v1.0//EN
CALSCALE:GREGORIAN
METHOD:PUBLISH
X-ORIGINAL-URL:https://seniorcenterjh.org
X-WR-CALDESC:Events for Senior Center of Jackson Hole
REFRESH-INTERVAL;VALUE=DURATION:PT1H
X-Robots-Tag:noindex
X-PUBLISHED-TTL:PT1H
BEGIN:VTIMEZONE
TZID:America/Denver
BEGIN:DAYLIGHT
TZOFFSETFROM:-0700
TZOFFSETTO:-0600
TZNAME:MDT
DTSTART:20260308T090000
END:DAYLIGHT
BEGIN:STANDARD
TZOFFSETFROM:-0600
TZOFFSETTO:-0700
TZNAME:MST
DTSTART:20261101T080000
END:STANDARD
END:VTIMEZONE
BEGIN:VEVENT
DTSTART;TZID=America/Denver:20260417T120000
DTEND;TZID=America/Denver:20260417T130000
DTSTAMP:20260424T150840
CREATED:20260416T174146Z
LAST-MODIFIED:20260416T174146Z
UID:10022884-1776427200-1776430800@seniorcenterjh.org
SUMMARY:Burger Bar
DESCRIPTION:Relish Tray \nBurger Bar with Fixins \nSweet Potato Fries \nSliced Watermelon \nBreakfast Entree: Chef’s Choice
URL:https://seniorcenterjh.org/event/burger-bar/
CATEGORIES:Lunch Menu
END:VEVENT
BEGIN:VEVENT
DTSTART;TZID=America/Denver:20260421T120000
DTEND;TZID=America/Denver:20260421T130000
DTSTAMP:20260424T150840
CREATED:20260420T191018Z
LAST-MODIFIED:20260420T191018Z
UID:10022885-1776772800-1776776400@seniorcenterjh.org
SUMMARY:Shrimp & Grits
DESCRIPTION:Brussel Sprout Salad \nShrimp & Grits \nStewed Tomatoes \nBread \nLemon Bar \nBreakfast Entree: Omelets
URL:https://seniorcenterjh.org/event/shrimp-grits/
CATEGORIES:Lunch Menu
END:VEVENT
BEGIN:VEVENT
DTSTART;TZID=America/Denver:20260422T120000
DTEND;TZID=America/Denver:20260422T130000
DTSTAMP:20260424T150840
CREATED:20260420T191728Z
LAST-MODIFIED:20260420T191728Z
UID:10022886-1776859200-1776862800@seniorcenterjh.org
SUMMARY:Lasagne
DESCRIPTION:Caesar Salad \nBeef or Veggie Lasagne  \nItalian Veggies \nRoll \nAngel Food Cake \nBreakfast Entree: French Toast
URL:https://seniorcenterjh.org/event/lasagne-2/
CATEGORIES:Lunch Menu
END:VEVENT
BEGIN:VEVENT
DTSTART;TZID=America/Denver:20260423T120000
DTEND;TZID=America/Denver:20260423T130000
DTSTAMP:20260424T150840
CREATED:20260422T160036Z
LAST-MODIFIED:20260422T160036Z
UID:10022887-1776945600-1776949200@seniorcenterjh.org
SUMMARY:BBQ Chicken
DESCRIPTION:Broccoli Salad \nBBQ Chicken \nBaked Beans \nMixed Veggies \nCorn Bread \nOatmeal Raisin Cookie
URL:https://seniorcenterjh.org/event/bbq-chicken/
CATEGORIES:Lunch Menu
END:VEVENT
BEGIN:VEVENT
DTSTART;TZID=America/Denver:20260424T120000
DTEND;TZID=America/Denver:20260424T130000
DTSTAMP:20260424T150840
CREATED:20260422T160133Z
LAST-MODIFIED:20260422T160133Z
UID:10022888-1777032000-1777035600@seniorcenterjh.org
SUMMARY:Mongolian Beef & Broccoli
DESCRIPTION:Asian Salad \nMongolian Beef & Broccoli \nBrown Rice \nSesame Green Beans \nRice Pudding
URL:https://seniorcenterjh.org/event/mongolian-beef-broccoli/
CATEGORIES:Lunch Menu
END:VEVENT
BEGIN:VEVENT
DTSTART;TZID=America/Denver:20260427T120000
DTEND;TZID=America/Denver:20260427T130000
DTSTAMP:20260424T150840
CREATED:20260422T160326Z
LAST-MODIFIED:20260422T160326Z
UID:10022889-1777291200-1777294800@seniorcenterjh.org
SUMMARY:soup & Salad Bar
DESCRIPTION:Salad Bar\, Soups & Baked Potato Bar \nSlab Apple Pie
URL:https://seniorcenterjh.org/event/soup-salad-bar-2/
CATEGORIES:Lunch Menu
END:VEVENT
BEGIN:VEVENT
DTSTART;TZID=America/Denver:20260428T120000
DTEND;TZID=America/Denver:20260428T130000
DTSTAMP:20260424T150840
CREATED:20260422T160439Z
LAST-MODIFIED:20260422T160439Z
UID:10022890-1777377600-1777381200@seniorcenterjh.org
SUMMARY:Pot Roast
DESCRIPTION:Veggie Salad \nPot Roast w/potatoes\, carrots\, peas & onions \nWhole Wheat Roll \nWhite Chocolate Macadamia Cookie
URL:https://seniorcenterjh.org/event/pot-roast/
CATEGORIES:Lunch Menu
END:VEVENT
BEGIN:VEVENT
DTSTART;TZID=America/Denver:20260429T120000
DTEND;TZID=America/Denver:20260429T130000
DTSTAMP:20260424T150840
CREATED:20260422T160527Z
LAST-MODIFIED:20260422T160527Z
UID:10022891-1777464000-1777467600@seniorcenterjh.org
SUMMARY:Chicken Mole by Angela
DESCRIPTION:Cumber & Tomato Salad \nChicken Mole \nPinto Beans \nStreet Corn \nCilantro Lime Rice \nTres Leches Flan
URL:https://seniorcenterjh.org/event/chicken-mole-by-angela/
CATEGORIES:Lunch Menu
END:VEVENT
BEGIN:VEVENT
DTSTART;TZID=America/Denver:20260430T120000
DTEND;TZID=America/Denver:20260430T130000
DTSTAMP:20260424T150840
CREATED:20260422T160639Z
LAST-MODIFIED:20260422T160639Z
UID:10022892-1777550400-1777554000@seniorcenterjh.org
SUMMARY:Fish Cakes
DESCRIPTION:Apple Slaw \nFish Cakes\nAsparagus \nRoasted Potatoes\nWhole Wheat Bread\nApple Crisp
URL:https://seniorcenterjh.org/event/fish-cakes/
CATEGORIES:Lunch Menu
END:VEVENT
END:VCALENDAR