BEGIN:VCALENDAR
VERSION:2.0
PRODID:-//Senior Center of Jackson Hole - ECPv6.11.2.1//NONSGML v1.0//EN
CALSCALE:GREGORIAN
METHOD:PUBLISH
X-WR-CALNAME:Senior Center of Jackson Hole
X-ORIGINAL-URL:https://seniorcenterjh.org
X-WR-CALDESC:Events for Senior Center of Jackson Hole
REFRESH-INTERVAL;VALUE=DURATION:PT1H
X-Robots-Tag:noindex
X-PUBLISHED-TTL:PT1H
BEGIN:VTIMEZONE
TZID:America/Denver
BEGIN:DAYLIGHT
TZOFFSETFROM:-0700
TZOFFSETTO:-0600
TZNAME:MDT
DTSTART:20250309T090000
END:DAYLIGHT
BEGIN:STANDARD
TZOFFSETFROM:-0600
TZOFFSETTO:-0700
TZNAME:MST
DTSTART:20251102T080000
END:STANDARD
END:VTIMEZONE
BEGIN:VEVENT
DTSTART;TZID=America/Denver:20250303T113000
DTEND;TZID=America/Denver:20250303T123000
DTSTAMP:20260423T133305
CREATED:20240930T192256Z
LAST-MODIFIED:20260403T043219Z
UID:10019955-1741001400-1741005000@seniorcenterjh.org
SUMMARY:Blood Pressure Check
DESCRIPTION:Weekly blood pressure checks can help you live a longer\, healthier life. Our Registered Nurse from the Home Care team will be here every Monday to give you those life-lengthening checks. Appointments are first come\, first served – no pre-registration is required. FREE for members.
URL:https://seniorcenterjh.org/event/blood-pressure-check-2-2/2025-03-03/
CATEGORIES:Health & Wellness
END:VEVENT
BEGIN:VEVENT
DTSTART;TZID=America/Denver:20250304T130000
DTEND;TZID=America/Denver:20250304T143000
DTSTAMP:20260423T133305
CREATED:20240903T150057Z
LAST-MODIFIED:20260403T043907Z
UID:10020011-1741093200-1741098600@seniorcenterjh.org
SUMMARY:Reiki
DESCRIPTION:Every Tuesday of the month\, we will have Tina Welling\, an experienced Reiki practitioner\, providing Reiki healing sessions. Reiki is a soothing energy experience that involves no touching. Sessions will be scheduled for 30 minutes with 20 minutes of sitting. Reiki practice intends to pass calming energy onto a person who can ease anxiety and stress and invite physical relaxation and comfort. Appointments are required. The sessions are available at 1:00\, 1:30\, and 2:00 pm. Call 307-733-7300 to schedule an appointment today!
URL:https://seniorcenterjh.org/event/reiki-2-2/2025-03-04/
CATEGORIES:Health & Wellness
END:VEVENT
BEGIN:VEVENT
DTSTART;TZID=America/Denver:20250305T103000
DTEND;TZID=America/Denver:20250305T113000
DTSTAMP:20260423T133305
CREATED:20240828T163836Z
LAST-MODIFIED:20260401T135556Z
UID:10020027-1741170600-1741174200@seniorcenterjh.org
SUMMARY:Tai Chi with Ken
DESCRIPTION:Greg is out\, but we will still be holding our Tai Chi class with instructor Ken! This gentle\, low-impact class is a great way to improve your balance\, agility\, and flexibility while releasing stress. Tai chi is a type of martial art and is a series of slow\, flowing movements that are great for treating or preventing injuries. This class is beginner-friendly\, so don’t worry if you have never done tai chi before! \nNo equipment is needed. \nJoin the online class by clicking here.
URL:https://seniorcenterjh.org/event/tai-chi-in-person-2-2-2-2/2025-03-05/
CATEGORIES:Fitness,Health & Wellness
END:VEVENT
BEGIN:VEVENT
DTSTART;TZID=America/Denver:20250310T113000
DTEND;TZID=America/Denver:20250310T123000
DTSTAMP:20260423T133305
CREATED:20240930T192256Z
LAST-MODIFIED:20260403T043219Z
UID:10019956-1741606200-1741609800@seniorcenterjh.org
SUMMARY:Blood Pressure Check
DESCRIPTION:Weekly blood pressure checks can help you live a longer\, healthier life. Our Registered Nurse from the Home Care team will be here every Monday to give you those life-lengthening checks. Appointments are first come\, first served – no pre-registration is required. FREE for members.
URL:https://seniorcenterjh.org/event/blood-pressure-check-2-2/2025-03-10/
CATEGORIES:Health & Wellness
END:VEVENT
BEGIN:VEVENT
DTSTART;TZID=America/Denver:20250312T103000
DTEND;TZID=America/Denver:20250312T113000
DTSTAMP:20260423T133305
CREATED:20240828T163836Z
LAST-MODIFIED:20260401T135556Z
UID:10020028-1741775400-1741779000@seniorcenterjh.org
SUMMARY:Tai Chi with Ken
DESCRIPTION:Greg is out\, but we will still be holding our Tai Chi class with instructor Ken! This gentle\, low-impact class is a great way to improve your balance\, agility\, and flexibility while releasing stress. Tai chi is a type of martial art and is a series of slow\, flowing movements that are great for treating or preventing injuries. This class is beginner-friendly\, so don’t worry if you have never done tai chi before! \nNo equipment is needed. \nJoin the online class by clicking here.
URL:https://seniorcenterjh.org/event/tai-chi-in-person-2-2-2-2/2025-03-12/
CATEGORIES:Fitness,Health & Wellness
END:VEVENT
BEGIN:VEVENT
DTSTART;TZID=America/Denver:20250317T113000
DTEND;TZID=America/Denver:20250317T123000
DTSTAMP:20260423T133305
CREATED:20240930T192256Z
LAST-MODIFIED:20260403T043219Z
UID:10019957-1742211000-1742214600@seniorcenterjh.org
SUMMARY:Blood Pressure Check
DESCRIPTION:Weekly blood pressure checks can help you live a longer\, healthier life. Our Registered Nurse from the Home Care team will be here every Monday to give you those life-lengthening checks. Appointments are first come\, first served – no pre-registration is required. FREE for members.
URL:https://seniorcenterjh.org/event/blood-pressure-check-2-2/2025-03-17/
CATEGORIES:Health & Wellness
END:VEVENT
BEGIN:VEVENT
DTSTART;TZID=America/Denver:20250318T130000
DTEND;TZID=America/Denver:20250318T143000
DTSTAMP:20260423T133305
CREATED:20240903T150057Z
LAST-MODIFIED:20260403T043907Z
UID:10020013-1742302800-1742308200@seniorcenterjh.org
SUMMARY:Reiki
DESCRIPTION:Every Tuesday of the month\, we will have Tina Welling\, an experienced Reiki practitioner\, providing Reiki healing sessions. Reiki is a soothing energy experience that involves no touching. Sessions will be scheduled for 30 minutes with 20 minutes of sitting. Reiki practice intends to pass calming energy onto a person who can ease anxiety and stress and invite physical relaxation and comfort. Appointments are required. The sessions are available at 1:00\, 1:30\, and 2:00 pm. Call 307-733-7300 to schedule an appointment today!
URL:https://seniorcenterjh.org/event/reiki-2-2/2025-03-18/
CATEGORIES:Health & Wellness
END:VEVENT
BEGIN:VEVENT
DTSTART;TZID=America/Denver:20250319T103000
DTEND;TZID=America/Denver:20250319T113000
DTSTAMP:20260423T133305
CREATED:20240828T163836Z
LAST-MODIFIED:20260401T135556Z
UID:10020029-1742380200-1742383800@seniorcenterjh.org
SUMMARY:Tai Chi with Ken
DESCRIPTION:Greg is out\, but we will still be holding our Tai Chi class with instructor Ken! This gentle\, low-impact class is a great way to improve your balance\, agility\, and flexibility while releasing stress. Tai chi is a type of martial art and is a series of slow\, flowing movements that are great for treating or preventing injuries. This class is beginner-friendly\, so don’t worry if you have never done tai chi before! \nNo equipment is needed. \nJoin the online class by clicking here.
URL:https://seniorcenterjh.org/event/tai-chi-in-person-2-2-2-2/2025-03-19/
CATEGORIES:Fitness,Health & Wellness
END:VEVENT
BEGIN:VEVENT
DTSTART;TZID=America/Denver:20250324T113000
DTEND;TZID=America/Denver:20250324T123000
DTSTAMP:20260423T133305
CREATED:20240930T192256Z
LAST-MODIFIED:20260403T043219Z
UID:10019958-1742815800-1742819400@seniorcenterjh.org
SUMMARY:Blood Pressure Check
DESCRIPTION:Weekly blood pressure checks can help you live a longer\, healthier life. Our Registered Nurse from the Home Care team will be here every Monday to give you those life-lengthening checks. Appointments are first come\, first served – no pre-registration is required. FREE for members.
URL:https://seniorcenterjh.org/event/blood-pressure-check-2-2/2025-03-24/
CATEGORIES:Health & Wellness
END:VEVENT
BEGIN:VEVENT
DTSTART;TZID=America/Denver:20250326T103000
DTEND;TZID=America/Denver:20250326T113000
DTSTAMP:20260423T133305
CREATED:20240828T163836Z
LAST-MODIFIED:20260401T135556Z
UID:10020030-1742985000-1742988600@seniorcenterjh.org
SUMMARY:Tai Chi with Ken
DESCRIPTION:Greg is out\, but we will still be holding our Tai Chi class with instructor Ken! This gentle\, low-impact class is a great way to improve your balance\, agility\, and flexibility while releasing stress. Tai chi is a type of martial art and is a series of slow\, flowing movements that are great for treating or preventing injuries. This class is beginner-friendly\, so don’t worry if you have never done tai chi before! \nNo equipment is needed. \nJoin the online class by clicking here.
URL:https://seniorcenterjh.org/event/tai-chi-in-person-2-2-2-2/2025-03-26/
CATEGORIES:Fitness,Health & Wellness
END:VEVENT
BEGIN:VEVENT
DTSTART;TZID=America/Denver:20250331T113000
DTEND;TZID=America/Denver:20250331T123000
DTSTAMP:20260423T133305
CREATED:20240930T192256Z
LAST-MODIFIED:20260403T043219Z
UID:10019959-1743420600-1743424200@seniorcenterjh.org
SUMMARY:Blood Pressure Check
DESCRIPTION:Weekly blood pressure checks can help you live a longer\, healthier life. Our Registered Nurse from the Home Care team will be here every Monday to give you those life-lengthening checks. Appointments are first come\, first served – no pre-registration is required. FREE for members.
URL:https://seniorcenterjh.org/event/blood-pressure-check-2-2/2025-03-31/
CATEGORIES:Health & Wellness
END:VEVENT
END:VCALENDAR